{"text_format":"3","workbook":"xlsx","n_sheets":5,"sheets":["Instructions","Order","Flag Entry Sheet","Rowland Thomas Entry Sheet","Data"],"not_rendered":{"images":15,"macros":1,"defined_names":7,"comments":1},"read":"whole","date_system":"1900"}

{"sheet":"Instructions","index":0,"n_rows":136,"n_cols":10,"rows_kept":136}
[]
[]
[]
[{"$nulls":7},"ORDER ENTRY FORM INSTRUCTIONS "]
[]
[]
[null,"About this Order Form"]
[]
[null,"The Order Form can be printed for manual entry / computation or used as an Excel document. The Order Form operates by executing a macro. "]
[null,"The macro has been programmed to work with Excel 2013 or higher.  To confirm what version of Excel you are using go to File/Account.  On the"]
[null,"right side of the screen the version of Excel should be visible."]
[]
[null,"NOTE: This is a template form, so please save a copy that can be reused.  Please do not reuse the template for multiple orders."]
[]
[null,"Order Entry Instructions"]
[]
[null,"Before you can enter data, please click the box under the Tool Bar titled \"Enabled Editing\"."]
[]
[]
[]
[null,"Order Information / Billing / Shipping / Payment "]
[null,"Please enter all applicable information."]
[]
[null,"Product Selection"]
[null,"The form has been organized to follow along with the 2017 Nexbelt Catalog.  On the far left side of the form we have provided references ot the "]
[null,"pages in the catalog.  Item Descriptions and Part No.'s on the form correspond to those in the catalog."]
[]
[null,"The entire form with all of the products listed may be prinited, if desired."]
[]
[null,"All of the products in the catalog are listed on the form.  Please select the quanities of each itme ordered.  A total cost for the items selected is"]
[null,"provided at the bottom of the form."]
[]
[null,"We have left room at the bottom of thre form for entry of product items that may not be in the catalog.  Please provide as much information as"]
[null,"possible when adding items that are not in the catalog.  A clear description and price are essential, and idelaly we would like a Part No..  If you"]
[null,"do not have this information, your Sales Representative or Customer Service Department (909-758-0079) can assist."]
[]
[null,"There is an Order Notes section at the bottom of the form.  Please use this for any special requests or other information you would like to"]
[null,"include with the order.  "]
[]
[null,"Reviewing Your Order"]
[]
[null,"The form has the capability to show only those items ordered.  This view is also the view that should be used for printing the order, if desired.  "]
[]
[null,"To view the Order Form with just the items ordered, do the following:"]
[]
[null,"First click the Enable Content button displayed under the Tool Bar."]
[]
[]
[null,"Click the button labeled ",{"$nulls":4},"and then give the form a moment to adjust the display to just the items ordered."]
[]
[]
[null,"You may also print the form, as well, and save the form as an Excel Sheet.  If you are ready to submit the order then, preferably save as a pdf and"]
[null,"forward to your Sales Representative or our Customer Service Department for processing."]
[]
[null,"Order Notes and Order Information may be added at any time, including after shrinking the form to view only those items ordered."]
[]
[null,"Important Notice: A qty of 30+ pcs of any one item requires call ahead confirmation"]
[]
[null,"Adjusting Your Order"]
[]
[null,"After reviewing your order, it is possible to see the entire catalog list again and add more items."]
[]
[null,"Select ",null,null,"and the form will expand back to its full listing of all catalog items.  Any quantity may be changed."]
[]
[null,"Select \"Show Ordered Items\" to again just see the items that have been ordered."]
[]
[null,"Flag Entry Sheet"]
[]
[null,"The Flag Entry Sheet is for use with producing selections of our Heritage and USA series packages and buckles.  "]
[]
[]
[null,"Each entry made on this sheet will carry back to the order form.  "]
{"$rows_empty":7}
[null,"Selection Fields"]
[null,"Use a separate line for each selection.  All fields Product to Qty need to be filled in.  "]
[]
[]
[]
[{"$nulls":3},"Enter if the item being chosen is a Package or a Buckle.  "]
[]
[]
[{"$nulls":3},"Enter the Buckle Type - Go In! or Classic."]
[]
[]
[{"$nulls":3},"Choose the flag for the buckle.  "]
[]
[]
[{"$nulls":3},"Select the strap if this is a Package - Smooth Black, Smooth White or Walnut"]
[]
[]
[{"$nulls":3},"Enter the quantity desired."]
[]
[]
[null,"Some combinations are not available.  The entry sheet will indicate there is a problem with the selection after entering the Qty."]
{"$rows_empty":7}
[null,"Other Information "]
[]
[null,"Member Number"]
[null,"Enter VGM account numbers as follows:  VGM 123456."]
[null,"Please make sure you include the letters \"VGM\" and there is a space between the M and the first number."]
[]
[null,"Next to the Order Summary there is a VGM Award indicator, \"YES\" if the customer qualifies for one or more free belts and a wood display if it is a first "]
[null,"time order, and \"NO\" if there is no award due to not meeting the minimum sale qty of 12."]
{"$rows_empty":19}
[null,"Summary","Summary","Summary","Summary","Summary","Summary","Summary","Summary","Summary"]
[null,"=Buckle","=Classic","=Display","=EDC","=Go-In!","=Golf","=Strap","=Team","=Add'tl"]

{"sheet":"Order","index":1,"n_rows":308,"n_cols":13,"rows_kept":308,"merged":[[7,1,7,2],[7,3,7,6],[8,1,8,2],[8,3,8,6],[9,1,9,2],[9,3,9,6],[12,1,12,2],[12,3,12,7],[13,1,13,2],[13,3,13,6],[14,1,14,2],[14,3,14,5],[15,1,15,2],[15,3,15,5],[15,7,15,8],[16,1,16,2],[16,3,16,5],[19,1,19,2],[19,3,19,9],[20,1,20,2],[20,3,20,9],[21,1,21,2],[21,3,21,5],[22,1,22,2],[22,3,22,5],[22,7,22,8],[23,1,23,2],[23,3,23,5],[26,1,26,2],[26,3,26,4],[26,7,26,8],[27,1,27,2],[27,3,27,4],[27,7,27,8],[28,1,28,2],[28,3,28,4],[28,7,28,8],[30,1,30,8],[32,0,37,0],[38,0,43,0],[44,0,48,0],[49,0,51,0],[52,0,59,0],[60,0,63,0],[64,0,66,0],[67,0,70,0],[67,1,67,3],[68,1,68,3],[69,1,69,3],[70,1,70,3],[71,0,80,0],[81,0,95,0],[81,1,81,3],[87,1,87,3],[88,1,88,3],[89,1,89,3],[90,1,90,3],[91,1,91,3],[93,1,93,3],[95,1,95,3],[96,0,99,0],[100,0,103,0],[104,0,105,0],[104,1,104,3],[106,0,108,0],[109,0,112,0],[109,1,109,3],[110,1,110,3],[111,1,111,3],[112,1,112,3],[113,0,114,0],[115,0,120,0],[121,0,122,0],[123,0,124,0],[123,1,123,3],[124,1,124,3],[125,0,128,0],[129,0,134,0],[135,0,140,0],[141,0,142,0],[143,0,144,0],[145,0,146,0],[147,0,150,0],[151,0,153,0],[154,0,155,0],[156,0,157,0],[158,0,161,0],[160,1,160,3],[161,1,161,3],[162,0,168,0],[169,0,189,0],[190,0,222,0],[190,1,190,3],[194,1,194,3],[195,1,195,3],[196,1,196,3],[197,1,197,3],[198,1,198,3],[199,1,199,3],[200,1,200,3],[202,1,202,3],[203,1,203,3],[204,1,204,3],[205,1,205,3],[206,1,206,3],[207,1,207,3],[208,1,208,3],[209,1,209,3],[210,1,210,3],[213,1,213,3],[214,1,214,3],[216,1,216,3],[218,1,218,3],[219,1,219,3],[220,1,220,3],[221,1,221,3],[222,1,222,3],[223,0,254,0],[255,0,266,0],[267,0,271,0],[272,0,281,0],[282,0,289,0]]}
[{"$nulls":9},"2021 Stock Order Form"]
[{"$nulls":9},"10390 Regis Ct"]
[{"$nulls":5},"2021-01-18",{"$nulls":3},"Rancho Cucamonga, CA  91730"]
[{"$nulls":9},"Phone: 909-758-0079  Fax: 866-610-4573"]
[]
[]
[null,"Order Information:"]
[null,"Order Date:",{"$nulls":6},"Shipping Window"]
[null,"Customer PO:",{"$nulls":6},"From:"]
[null,"Rep Name:",{"$nulls":6},"To:"]
[]
[null,"Billing Information:"]
[null,"Customer Name:",{"$nulls":6},"Member #:"]
[null,"Address:"]
[null,"City:",{"$nulls":4},"State:",null,"Zip:"]
[null,"Contact:",{"$nulls":4},"Phone:"]
[null,"Email:"]
[]
[null,"Shipping Information:"]
[null,"Customer Name:",null,"Same as Billing information above"]
[null,"Address:"]
[null,"City:",{"$nulls":4},"State:",null,"Zip:"]
[null,"Contact:",{"$nulls":4},"Phone:"]
[null,"Email:"]
[]
[null,"Payment Information:"]
[null,"Credit Card:",{"$nulls":4},"Card Type:"]
[null,"Name on Card:",{"$nulls":4},"Zip:"]
[null,"Exp Date:",{"$nulls":4},"CVV:"]
[]
[]
[null,"Description",null,null,"UPC Code","Item Code","Price","MAP","Qty","Total","Summary","INVENTORY UPDATE 1/15/21"]
["Go-In! Colour Series v.4 p.1","Go-In! Pebble Grain Pitch Black",null,null,811685023778,"PGC3778",{"v":31.5,"d":"$31.50"},{"$f":"IF(G33=0,\" \",(G33*2)-0.01)","v":{"v":62.99,"d":"$62.99"}},null,{"$f":"I33*G33","v":{"v":0,"d":"$0.00"}},"Golf","IN STOCK"]
[null,"Go-In! Pebble Grain Cognac",null,null,811685023914,"PGC3914",{"v":31.5,"d":"$31.50"},{"v":62.99,"d":"$62.99"},null,{"v":0,"d":"$0.00"},"Golf","IN STOCK"]
[null,"Go-In! Pebble Grain Deep Sea Navy",null,null,811685023822,"PGC3822",{"v":31.5,"d":"$31.50"},{"v":62.99,"d":"$62.99"},null,{"v":0,"d":"$0.00"},"Golf","IN STOCK"]
[null,"Go-In!PebbleGrainTobacco",null,null,811685023907,"PGC3907",{"v":31.5,"d":"$31.50"},{"$f":"IF(G36=0,\"\",(G36*2)-0.01)","v":{"v":62.99,"d":"$62.99"}},null,{"v":0,"d":"$0.00"},"Golf","INSTOCK"]
[null,"Go-In! Pebble Grain Smoke Grey",null,null,811685024133,"PGC4133",{"v":31.5,"d":"$31.50"},{"v":62.99,"d":"$62.99"},null,{"v":0,"d":"$0.00"},"Golf","IN STOCK"]
[null,"Go-In! Pebble Grain Winner White",null,null,811685024164,"PGC4164",{"v":31.5,"d":"$31.50"},{"v":62.99,"d":"$62.99"},null,{"v":0,"d":"$0.00"},"Golf","IN STOCK"]
["Classic Colour Series p.2","Classic Pebble Grain Pitch Black",null,null,811685024676,"PCC4676",{"v":26.5,"d":"$26.50"},{"$f":"IF(G39=0,\" \",(G39*2)-0.01)","v":{"v":52.99,"d":"$52.99"}},null,{"$f":"I39*G39","v":{"v":0,"d":"$0.00"}},"Classic","LOW INVENTORY",{"$f":"+IFERROR(VLOOKUP(F39,#REF!,2,FALSE),\" \")","v":" "}]
[null," Classic Pebble Grain Cognac",null,null,811685024720,"PCC4720",{"v":26.5,"d":"$26.50"},{"$f":"IF(G40=0,\" \",(G40*2)-0.01)","v":{"v":52.99,"d":"$52.99"}},null,{"v":0,"d":"$0.00"},"Classic","IN STOCK",{"$f":"+IFERROR(VLOOKUP(F40,#REF!,2,FALSE),\" \")","v":" "}]
[null,"Classic Pebble Grain Deep Sea Navy",null,null,811685024850,"PCC4850",{"v":26.5,"d":"$26.50"},{"v":52.99,"d":"$52.99"},null,{"v":0,"d":"$0.00"},"Classic","IN STOCK",{"$f":"+IFERROR(VLOOKUP(F41,#REF!,2,FALSE),\" \")","v":" "}]
[null,"Classic Pebble Grain Tobacco",null,null,818172026373,"PCC6373",{"v":26.5,"d":"$26.50"},{"v":52.99,"d":"$52.99"},null,{"v":0,"d":"$0.00"},"Classic","IN STOCK",{"$f":"+IFERROR(VLOOKUP(F42,#REF!,2,FALSE),\" \")","v":" "}]
[null,"Classic Pebble Grain Smoke Grey",null,null,811685025055,"PCC5055",{"v":26.5,"d":"$26.50"},{"v":52.99,"d":"$52.99"},null,{"v":0,"d":"$0.00"},"Classic","IN STOCK",{"$f":"+IFERROR(VLOOKUP(F43,#REF!,2,FALSE),\" \")","v":" "}]
[null,"Classic Pebble Grain Winner White",null,null,811685025048,"PCC5048",{"v":26.5,"d":"$26.50"},{"v":52.99,"d":"$52.99"},null,{"v":0,"d":"$0.00"},"Classic","IN STOCK",{"$f":"+IFERROR(VLOOKUP(F44,#REF!,2,FALSE),\" \")","v":" "}]
["Fast Eddie Series p. 3","Fast Eddie Xavier X Factor  NEW!",null,null,818172027493,"PGF7493",{"v":34.5,"d":"$34.50"},{"$f":"IF(G45=0,\" \",(G45*2)-0.01)","v":{"v":68.99,"d":"$68.99"}},null,{"v":0,"d":"$0.00"},"Golf","IN STOCK APRIL",{"$f":"+IFERROR(VLOOKUP(F45,#REF!,2,FALSE),\" \")","v":" "}]
[null,"Fast Eddie Lucky Blue X Factor  NEW!",null,null,818172027509,"PGF7509",{"v":34.5,"d":"$34.50"},{"$f":"IF(G46=0,\" \",(G46*2)-0.01)","v":{"v":68.99,"d":"$68.99"}},null,{"v":0,"d":"$0.00"},"Golf","IN STOCK"]
[null,"Fast Eddie Platinum X Factor  NEW!",null,null,818172028193,"PGF8193",{"v":34.5,"d":"$34.50"},{"v":68.99,"d":"$68.99"},null,{"v":0,"d":"$0.00"},"Golf","IN STOCK"]
[null," Fast Eddie Carbon Black",null,null,811685020616,"PGF0616",{"v":34.5,"d":"$34.50"},{"$f":"IF(G48=0,\" \",(G48*2)-0.01)","v":{"v":68.99,"d":"$68.99"}},null,{"$f":"I48*G48","v":{"v":0,"d":"$0.00"}},"Golf","IN STOCK"]
[null," Fast Eddie Shield Pitch Black",null,null,818172026380,"PGF6380",{"v":34.5,"d":"$34.50"},{"v":68.99,"d":"$68.99"},null,{"v":0,"d":"$0.00"},"Golf","IN STOCK",{"$f":"+IFERROR(VLOOKUP(F49,#REF!,2,FALSE),\" \")","v":" "}]
["Hampton Series p.4","Hampton Clover ",null,null,818172026878,"PCM6878",{"v":26.5,"d":"$26.50"},{"v":52.99,"d":"$52.99"},null,{"$f":"I50*G50","v":{"v":0,"d":"$0.00"}},"Classic","OUT OF STOCK - MARCH",{"$f":"+IFERROR(VLOOKUP(F50,#REF!,2,FALSE),\" \")","v":" "}]
[null,"Hampton USA",null,null,818172022443,"PCM2443",{"v":26.5,"d":"$26.50"},{"$f":"IF(G51=0,\" \",(G51*2)-0.01)","v":{"v":52.99,"d":"$52.99"}},null,{"$f":"I51*G51","v":{"v":0,"d":"$0.00"}},"Classic","IN STOCK",{"$f":"+IFERROR(VLOOKUP(F51,#REF!,2,FALSE),\" \")","v":" "}]
[null,"Hampton Tee Time",null,null,818172022450,"PCM2450",{"v":26.5,"d":"$26.50"},{"v":52.99,"d":"$52.99"},null,{"v":0,"d":"$0.00"},"Classic","IN STOCK",{"$f":"+IFERROR(VLOOKUP(F52,#REF!,2,FALSE),\" \")","v":" "}]
["Shield Series V.3                  p.5","Go-In! Shield Grey NEW!",null,null,818172027523,"PGG7523",{"v":31.5,"d":"$31.50"},{"$f":"IF(G53=0,\" \",(G53*2)-0.01)","v":{"v":62.99,"d":"$62.99"}},null,{"v":0,"d":"$0.00"},"Golf","IN STOCK",{"$f":"+IFERROR(VLOOKUP(F53,#REF!,2,FALSE),\" \")","v":" "}]
[null,"Classic Shield Grey NEW!",null,null,818172027530,"PCE7530",{"v":26.5,"d":"$26.50"},{"v":52.99,"d":"$52.99"},null,{"v":0,"d":"$0.00"},"Classic","IN STOCK"]
[null,"Go-In! Shield Black 3.0",null,null,818172024515,"PGG4515",{"v":31.5,"d":"$31.50"},{"$f":"IF(G55=0,\" \",(G55*2)-0.01)","v":{"v":62.99,"d":"$62.99"}},null,{"$f":"I55*G55","v":{"v":0,"d":"$0.00"}},"Golf","IN STOCK"]
[null,"Classic Shield Black 3.0",null,null,818172024492,"PCE4492",{"v":26.5,"d":"$26.50"},{"v":52.99,"d":"$52.99"},null,{"v":0,"d":"$0.00"},"Classic","IN STOCK",{"$f":"+IFERROR(VLOOKUP(F56,#REF!,2,FALSE),\" \")","v":" "}]
[null,"Go-In! Shield Espresso 3.0",null,null,818172024553,"PGG4553",{"v":31.5,"d":"$31.50"},{"v":62.99,"d":"$62.99"},null,{"$f":"I57*G57","v":{"v":0,"d":"$0.00"}},"Golf","IN STOCK",{"$f":"+IFERROR(VLOOKUP(F57,#REF!,2,FALSE),\" \")","v":" "}]
[null,"Classic Espresso 3.0",null,null,818172024539,"PCE4539",{"v":26.5,"d":"$26.50"},{"v":52.99,"d":"$52.99"},null,{"$f":"I58*G58","v":{"v":0,"d":"$0.00"}},"Classic","IN STOCK",{"$f":"+IFERROR(VLOOKUP(F58,#REF!,2,FALSE),\" \")","v":" "}]
[null,"Go-In! Shield White 3.0",null,null,818172024614,"PGG4614",{"v":31.5,"d":"$31.50"},{"v":62.99,"d":"$62.99"},null,{"$f":"I59*G59","v":{"v":0,"d":"$0.00"}},"Golf","IN STOCK",{"$f":"+IFERROR(VLOOKUP(F59,#REF!,2,FALSE),\" \")","v":" "}]
[null,"Classic White 3.0",null,null,818172024584,"PCE4584",{"v":26.5,"d":"$26.50"},{"v":52.99,"d":"$52.99"},null,{"$f":"I60*G60","v":{"v":0,"d":"$0.00"}},"Classic","IN STOCK",{"$f":"+IFERROR(VLOOKUP(F60,#REF!,2,FALSE),\" \")","v":" "}]
["Go-In! Tradition Series p.6","Go-In! Tradition Espresso",null,null,818172024430,"PGG4430",{"v":31.5,"d":"$31.50"},{"$f":"IF(G61=0,\" \",(G61*2)-0.01)","v":{"v":62.99,"d":"$62.99"}},null,{"$f":"I61*G61","v":{"v":0,"d":"$0.00"}},"Golf","IN STOCK",{"$f":"+IFERROR(VLOOKUP(F61,#REF!,2,FALSE),\" \")","v":" "}]
[null,"Go-In! Tradition Smooth White",null,null,818172024454,"PGG4454",{"v":31.5,"d":"$31.50"},{"v":62.99,"d":"$62.99"},null,{"v":0,"d":"$0.00"},"Golf","IN STOCK",{"$f":"+IFERROR(VLOOKUP(F62,#REF!,2,FALSE),\" \")","v":" "}]
[null,"Go-In! Tradition Carbon Black",null,null,818172024423,"PGG4423",{"v":31.5,"d":"$31.50"},{"v":62.99,"d":"$62.99"},null,{"v":0,"d":"$0.00"},"Golf","IN STOCK",{"$f":"+IFERROR(VLOOKUP(F63,#REF!,2,FALSE),\" \")","v":" "}]
[null,"Go-In! Smooth Black",null,null,818172024478,"PGG4478",{"v":31.5,"d":"$31.50"},{"v":62.99,"d":"$62.99"},null,{"v":0,"d":"$0.00"},"Golf","IN STOCK",{"$f":"+IFERROR(VLOOKUP(F64,#REF!,2,FALSE),\" \")","v":" "}]
["Youth Series p.7","Youth Black",null,null,818172027981,"PGJ7981",{"v":15,"d":"$15.00"},{"v":29.99,"d":"$29.99"},null,{"v":0,"d":"$0.00"},"Golf","IN STOCK MARCH/APRIL"]
[null,"Youth White",null,null,818172027967,"PGJ7967",{"v":15,"d":"$15.00"},{"v":29.99,"d":"$29.99"},null,{"v":0,"d":"$0.00"},"Golf","IN STOCK MARCH/APRIL"]
[null,"Youth Grey",null,null,818172027974,"PGJ7974",{"v":15,"d":"$15.00"},{"v":29.99,"d":"$29.99"},null,{"v":0,"d":"$0.00"},"Golf","IN STOCK MARCH/APRIL"]
[" Misc.   Packages p.8","Go-In! Carbon White Golf Belt",{"$nulls":3},"EIS5877",{"v":31.5,"d":"$31.50"},{"$f":"IF(G68=0,\" \",(G68*2)-0.01)","v":{"v":62.99,"d":"$62.99"}},null,{"$f":"I68*G68","v":{"v":0,"d":"$0.00"}},"Golf","IN STOCK"]
[null,"Jake Carbon White Belt",null,null,818172026779,"PCE6779",{"v":26.5,"d":"$26.50"},{"v":52.99,"d":"$52.99"},null,{"v":0,"d":"$0.00"},"Classic","OUT OF STOCK - LATE FEBRUARY"]
[null,"Aston Eagle Black Belt",null,null,811685026335,"PCE6335",{"v":26.5,"d":"$26.50"},{"v":52.99,"d":"$52.99"},null,{"v":0,"d":"$0.00"},"Classic ","OUT OF STOCK - MARCH/APRIL"]
[null,"Aston Eagle White Belt",null,null,811685026366,"PCE6366",{"v":26.5,"d":"$26.50"},{"v":52.99,"d":"$52.99"},null,{"v":0,"d":"$0.00"},"Classic","IN STOCK"]
["2020 Ryder Cup Series     p. 9-10","Go-In! Ryder Cup Admiral White",null,null,818172026434,"CPG6434",{"v":36,"d":"$36.00"},{"v":71.99,"d":"$71.99"},null,{"$f":"I72*G72","v":{"v":0,"d":"$0.00"}},"Golf","IN STOCK",{"$f":"+IFERROR(VLOOKUP(F72,#REF!,2,FALSE),\" \")","v":" "}]
[null,"Go-In! Ryder Cup Smooth Black",null,null,818172026441,"CPG6441",{"v":36,"d":"$36.00"},{"v":71.99,"d":"$71.99"},null,{"$f":"I73*G73","v":{"v":0,"d":"$0.00"}},"Golf","IN STOCK",{"$f":"+IFERROR(VLOOKUP(F73,#REF!,2,FALSE),\" \")","v":" "}]
[null,"Go-In! Ryder Cup PG Sunday Red",null,null,818172026458,"CPG6458",{"v":36,"d":"$36.00"},{"v":71.99,"d":"$71.99"},null,{"v":0,"d":"$0.00"},"Golf","IN STOCK",{"$f":"+IFERROR(VLOOKUP(F74,#REF!,2,FALSE),\" \")","v":" "}]
[null,"Go-In! Ryder Cup Classic Captain",null,null,818172026465,"CPG6465",{"v":36,"d":"$36.00"},{"v":71.99,"d":"$71.99"},null,{"v":0,"d":"$0.00"},"Golf","IN STOCK",{"$f":"+IFERROR(VLOOKUP(F75,#REF!,2,FALSE),\" \")","v":" "}]
[null,"Hampton Ryder Cup",null,null,818172026472,"CPC6472",{"v":30,"d":"$30.00"},{"v":59.99,"d":"$59.99"},null,{"v":0,"d":"$0.00"},"Classic","IN STOCK",{"$f":"+IFERROR(VLOOKUP(F76,#REF!,2,FALSE),\" \")","v":" "}]
[null,"Buckle: Go-In! Ryder Cup Nickel Buckle",null,null,818172026403,"CBG6403",{"v":14,"d":"$14.00"},{"v":27.99,"d":"$27.99"},null,{"v":0,"d":"$0.00"},"Buckle","IN STOCK",{"$f":"+IFERROR(VLOOKUP(F77,#REF!,2,FALSE),\" \")","v":" "}]
[null,"Cap: Ryder Cup Pitch Black",{"$nulls":3},"HCB-RCWSB",{"v":20,"d":"$20.00"},{"v":39.99,"d":"$39.99"},null,{"v":0,"d":"$0.00"},"Cap","IN STOCK",{"$f":"+IFERROR(VLOOKUP(F78,#REF!,2,FALSE),\" \")","v":" "}]
[null,"Cap: Ryder Cup Deep Sea Navy",{"$nulls":3},"HCB-RCWSN",{"v":20,"d":"$20.00"},{"v":39.99,"d":"$39.99"},null,{"v":0,"d":"$0.00"},"Cap","IN STOCK",{"$f":"+IFERROR(VLOOKUP(F79,#REF!,2,FALSE),\" \")","v":" "}]
[null,"Cap: Ryder Cup Winner White",{"$nulls":3},"HCB-RCWSW",{"v":20,"d":"$20.00"},{"v":39.99,"d":"$39.99"},null,{"v":0,"d":"$0.00"},"Cap","IN STOCK",{"$f":"+IFERROR(VLOOKUP(F80,#REF!,2,FALSE),\" \")","v":" "}]
[null,"Cap: Ryder Cup Steel Grey",{"$nulls":3},"HCB-RCWSG",{"v":20,"d":"$20.00"},{"v":39.99,"d":"$39.99"},null,{"v":0,"d":"$0.00"},"Cap","IN STOCK",{"$f":"+IFERROR(VLOOKUP(F81,#REF!,2,FALSE),\" \")","v":" "}]
["Heritage Series             p. 11-12","Anthem White NEW!",null,null,818172027868,"PCH7868",{"v":26.5,"d":"$26.50"},{"v":52.99,"d":"$52.99"},null,{"v":0,"d":"$0.00"},"Classic","IN STOCK MARCH",{"$f":"+IFERROR(VLOOKUP(F82,#REF!,2,FALSE),\" \")","v":" "}]
[null,"Anthem Navy NEW!",null,null,818172027851,"PCH7851",{"v":26.5,"d":"$26.50"},{"v":52.99,"d":"$52.99"},null,{"v":0,"d":"$0.00"},"Classic","IN STOCK MARCH",{"$f":"+IFERROR(VLOOKUP(F83,#REF!,2,FALSE),\" \")","v":" "}]
[null,"Liberty Braided NEW!",null,null,818172028087,"PCD8087",{"v":26.5,"d":"$26.50"},{"v":52.99,"d":"$52.99"},null,{"v":0,"d":"$0.00"},"Classic","IN STOCK MARCH"]
[null,"Heritage Captain  ",null,null,811685020524,"PCH0524",{"v":26.5,"d":"$26.50"},{"v":52.99,"d":"$52.99"},null,{"v":0,"d":"$0.00"},"Classic","IN STOCK"]
[null,"Heritage USA Black Go-In! 3.0",null,null,818172025475,"PGH5475",{"v":31.5,"d":"$31.50"},{"$f":"IF(G86=0,\" \",(G86*2)-0.01)","v":{"v":62.99,"d":"$62.99"}},null,{"$f":"I86*G86","v":{"v":0,"d":"$0.00"}},"Golf","IN STOCK"]
[null,"Heritage USA White Go-In! 3.0",null,null,818172026304,"PGH6304",{"v":31.5,"d":"$31.50"},{"$f":"IF(G87=0,\" \",(G87*2)-0.01)","v":{"v":62.99,"d":"$62.99"}},null,{"v":0,"d":"$0.00"},"Golf","IN STOCK"]
[null,"Go-In! Black Series USA",null,null,811685025468,"PGB5468",{"v":31.5,"d":"$31.50"},{"$f":"(G88*2)-0.01","v":{"v":62.99,"d":"$62.99"}},null,{"v":0,"d":"$0.00"},"Golf","OUT OF STOCK"]
[null,"Classic Black Series USA ",null,null,811685025451,"PCB5451",{"v":29.5,"d":"$29.50"},{"$f":"(G89*2)-0.01","v":{"v":58.99,"d":"$58.99"}},null,{"v":0,"d":"$0.00"},"Classic","IN STOCK"]
[null,"Super Patriot White   ",null,null,818172024300,"PCZ4300",{"v":31.5,"d":"$31.50"},{"$f":"IF(G90=0,\" \",(G90*2)-0.01)","v":{"v":62.99,"d":"$62.99"}},null,{"v":0,"d":"$0.00"},"Classic","IN STOCK"]
[null,"Super Patriot Black  ",null,null,818172024294,"PCZ4294",{"v":31.5,"d":"$31.50"},{"v":62.99,"d":"$62.99"},null,{"v":0,"d":"$0.00"},"Classic","IN STOCK"]
[null,"Heritage USA Aston Black",null,null,"818172020586","PCH0586",{"v":31.5,"d":"$31.50"},{"$f":"(G92*2)-0.01","v":{"v":62.99,"d":"$62.99"}},null,{"v":0,"d":"$0.00"},"Classic","IN STOCK"]
[null,"Heritage USA Aston White",null,null,818172022771,"PCH2771",{"v":31.5,"d":"$31.50"},{"$f":"IF(G93=0,\" \",(G93*2)-0.01)","v":{"v":62.99,"d":"$62.99"}},null,{"v":0,"d":"$0.00"},"Classic","IN STOCK"]
[null,"Embossed Pewter USA",null,null,"811685027721","PCH7721",{"v":31.5,"d":"$31.50"},{"$f":"(G94*2)-0.01","v":{"v":62.99,"d":"$62.99"}},null,{"v":0,"d":"$0.00"},"Classic","IN STOCK"]
[null,"USA Embossed Legacy NEW!",null,null,818172028179,"PCH8179",{"v":31.5,"d":"$31.50"},{"$f":"(G95*2)-0.01","v":{"v":62.99,"d":"$62.99"}},null,{"v":0,"d":"$0.00"},"Classic","IN STOCK"]
[null,"USA Aston Black Series",null,null,"811685027769","PCB7769",{"v":29.5,"d":"$29.50"},{"$f":"(G96*2)-0.01","v":{"v":58.99,"d":"$58.99"}},null,{"$f":"I96*G96","v":{"v":0,"d":"$0.00"}},"Classic","LOW INVENTORY"]
["Rogue Series p.1","Rogue Black",null,null,818172024713,"PCE4713",{"v":26.5,"d":"$26.50"},{"v":52.99,"d":"$52.99"},null,{"$f":"I97*G97","v":{"v":0,"d":"$0.00"}},"Classic","IN STOCK",{"$f":"+IFERROR(VLOOKUP(F97,#REF!,2,FALSE),\" \")","v":" "}]
[null,"Rogue Espresso",null,null,818172024737,"PCE4737",{"v":26.5,"d":"$26.50"},{"$f":"IF(G98=0,\" \",(G98*2)-0.01)","v":{"v":52.99,"d":"$52.99"}},null,{"$f":"I98*G98","v":{"v":0,"d":"$0.00"}},"Classic","IN STOCK",{"$f":"+IFERROR(VLOOKUP(F98,#REF!,2,FALSE),\" \")","v":" "}]
[null,"Rogue Walnut 2.0",null,null,818172026526,"PCE6526",{"v":26.5,"d":"$26.50"},{"v":52.99,"d":"$52.99"},null,{"v":0,"d":"$0.00"},"Classic","IN STOCK ",{"$f":"+IFERROR(VLOOKUP(F99,#REF!,2,FALSE),\" \")","v":" "}]
[null,"Rogue Carbon Black NEW!",null,null,818172027554,"PCE7554",{"v":26.5,"d":"$26.50"},{"v":52.99,"d":"$52.99"},null,{"v":0,"d":"$0.00"},"Classic","IN STOCK",{"$f":"+IFERROR(VLOOKUP(F100,#REF!,2,FALSE),\" \")","v":" "}]
["Classic Shield Series v.3 p.2","Classic Shield Grey NEW!",null,null,818172027530,"PCE7530",{"v":26.5,"d":"$26.50"},{"v":52.99,"d":"$52.99"},null,{"v":0,"d":"$0.00"},"Classic","IN STOCK",{"$f":"+IFERROR(VLOOKUP(F101,#REF!,2,FALSE),\" \")","v":" "}]
[null,"Classic Shield 3.0 White",null,null,818172024584,"PCE4584",{"v":26.5,"d":"$26.50"},{"$f":"IF(G102=0,\" \",(G102*2)-0.01)","v":{"v":52.99,"d":"$52.99"}},null,{"$f":"I102*G102","v":{"v":0,"d":"$0.00"}},"Classic","IN STOCK"]
[null,"Classic Shield 3.0 Black",null,null,818172024492,"PCE4492",{"v":26.5,"d":"$26.50"},{"v":52.99,"d":"$52.99"},null,{"v":0,"d":"$0.00"},"Classic","IN STOCK",{"$f":"+IFERROR(VLOOKUP(F103,#REF!,2,FALSE),\" \")","v":" "}]
[null,"Classic Shield 3.0 Espresso",null,null,818172024539,"PCE4539",{"v":26.5,"d":"$26.50"},{"v":52.99,"d":"$52.99"},null,{"v":0,"d":"$0.00"},"Classic","IN STOCK",{"$f":"+IFERROR(VLOOKUP(F104,#REF!,2,FALSE),\" \")","v":" "}]
["Full Grain Series p. 2","Vintage Bourbon",null,null,818172024881,"PCP4881",{"v":42,"d":"$42.00"},{"$f":"IF(G105=0,\" \",(G105*2)-0.01)","v":{"v":83.99,"d":"$83.99"}},null,{"$f":"I105*G105","v":{"v":0,"d":"$0.00"}},"Classic","IN STOCK",{"$f":"+IFERROR(VLOOKUP(F105,#REF!,2,FALSE),\" \")","v":" "}]
[null,"Vintage Coal",null,null,818172024874,"PCP4874",{"v":42,"d":"$42.00"},{"$f":"IF(G106=0,\" \",(G106*2)-0.01)","v":{"v":83.99,"d":"$83.99"}},null,{"$f":"I106*G106","v":{"v":0,"d":"$0.00"}},"Classic","IN STOCK",{"$f":"+IFERROR(VLOOKUP(F106,#REF!,2,FALSE),\" \")","v":" "}]
["Vetica Series p.3","Vetica Brown",null,null,818172024676,"PCE4676",{"v":26.5,"d":"$26.50"},{"$f":"IF(G107=0,\" \",(G107*2)-0.01)","v":{"v":52.99,"d":"$52.99"}},null,{"$f":"I107*G107","v":{"v":0,"d":"$0.00"}},"Classic","IN STOCK"]
[null,"Vetica Black",null,null,818172024706,"PCE4706",{"v":26.5,"d":"$26.50"},{"$f":"IF(G108=0,\" \",(G108*2)-0.01)","v":{"v":52.99,"d":"$52.99"}},null,{"v":0,"d":"$0.00"},"Classic","IN STOCK"]
[null,"Vetica Carbon Black",null,null,818172024638,"PCE4638",{"v":26.5,"d":"$26.50"},{"v":52.99,"d":"$52.99"},null,{"v":0,"d":"$0.00"},"Classic","IN STOCK"]
["Classic Series           p.4","Classic Smooth Black",null,null,818172025246,"PCE5246",{"v":26.5,"d":"$26.50"},{"$f":"IF(G110=0,\" \",(G110*2)-0.01)","v":{"v":52.99,"d":"$52.99"}},null,{"$f":"I110*G110","v":{"v":0,"d":"$0.00"}},"Classic","IN STOCK",{"$f":"+IFERROR(VLOOKUP(F110,#REF!,2,FALSE),\" \")","v":" "}]
[null,"Classic Ebony  ",null,null,"811685022580","PCE2580",{"v":26.5,"d":"$26.50"},{"$f":"(G111*2)-0.01","v":{"v":52.99,"d":"$52.99"}},null,{"v":0,"d":"$0.00"},"Classic","IN STOCK",{"$f":"+IFERROR(VLOOKUP(F111,#REF!,2,FALSE),\" \")","v":" "}]
[null,"Classic Espresso",null,null,"811685024065","PCE4065",{"v":26.5,"d":"$26.50"},{"$f":"(G112*2)-0.01","v":{"v":52.99,"d":"$52.99"}},null,{"v":0,"d":"$0.00"},"Classic","IN STOCK",{"$f":"+IFERROR(VLOOKUP(F112,#REF!,2,FALSE),\" \")","v":" "}]
[null,"Classic Walnut ",null,null,"811685022603","PCE2603",{"v":26.5,"d":"$26.50"},{"$f":"(G113*2)-0.01","v":{"v":52.99,"d":"$52.99"}},null,{"v":0,"d":"$0.00"},"Classic","IN STOCK",{"$f":"+IFERROR(VLOOKUP(F113,#REF!,2,FALSE),\" \")","v":" "}]
["Crocodile Series p.5","Crocodile Black",null,null,811685021699,"PCR1699",{"v":47.5,"d":"$47.50"},{"$f":"IF(G114=0,\" \",(G114*2)-0.01)","v":{"v":94.99,"d":"$94.99"}},null,{"$f":"I114*G114","v":{"v":0,"d":"$0.00"}},"Classic","IN STOCK"]
[null,"Crocodile Brown",null,null,811685021736,"PCR1736",{"v":47.5,"d":"$47.50"},{"v":94.99,"d":"$94.99"},null,{"v":0,"d":"$0.00"},"Classic","IN STOCK"]
["Alligator Series           p.6","2020 Alligator White  ",null,null,811685021644,"PCA1644",{"v":47.5,"d":"$47.50"},{"$f":"IF(G116=0,\" \",(G116*2)-0.01)","v":{"v":94.99,"d":"$94.99"}},null,{"v":0,"d":"$0.00"},"Classic","IN STOCK",{"$f":"+IFERROR(VLOOKUP(F116,#REF!,2,FALSE),\" \")","v":" "}]
[null,"2020 Alligator Navy",null,null,811685021477,"PCA1477",{"v":47.5,"d":"$47.50"},{"v":94.99,"d":"$94.99"},null,{"v":0,"d":"$0.00"},"Classic","IN STOCK",{"$f":"+IFERROR(VLOOKUP(F117,#REF!,2,FALSE),\" \")","v":" "}]
[null,"2020 Alligator Coffee",null,null,811685021606,"PCA1606",{"v":47.5,"d":"$47.50"},{"v":94.99,"d":"$94.99"},null,{"v":0,"d":"$0.00"},"Classic","IN STOCK",{"$f":"+IFERROR(VLOOKUP(F118,#REF!,2,FALSE),\" \")","v":" "}]
[null,"2020 Alligator Tan",null,null,811685021460,"PCA1460",{"v":47.5,"d":"$47.50"},{"v":94.99,"d":"$94.99"},null,{"v":0,"d":"$0.00"},"Classic","IN STOCK",{"$f":"+IFERROR(VLOOKUP(F119,#REF!,2,FALSE),\" \")","v":" "}]
[null,"2020 Alligator Black",null,null,811685021453,"PCA1453",{"v":47.5,"d":"$47.50"},{"v":94.99,"d":"$94.99"},null,{"v":0,"d":"$0.00"},"Classic","IN STOCK",{"$f":"+IFERROR(VLOOKUP(F120,#REF!,2,FALSE),\" \")","v":" "}]
[null,"2020 Alligator Grey",null,null,811685021651,"PCA1651",{"v":47.5,"d":"$47.50"},{"v":94.99,"d":"$94.99"},null,{"v":0,"d":"$0.00"},"Classic","LOW INVENTORY",{"$f":"+IFERROR(VLOOKUP(F121,#REF!,2,FALSE),\" \")","v":" "}]
["Basket Weave Series p.7","Maduro Weave Black",null,null,818172026717,"PCE6717",{"v":26.5,"d":"$26.50"},{"v":52.99,"d":"$52.99"},null,{"$f":"I122*G122","v":{"v":0,"d":"$0.00"}},"Classic","IN STOCK"]
[null,"Claro Weave Brown",null,null,818172026724,"PCE6724",{"v":26.5,"d":"$26.50"},{"v":52.99,"d":"$52.99"},null,{"v":0,"d":"$0.00"},"Classic","IN STOCK"]
["Camden Series p.7","Camden Black",null,null,818172025369,"PCX5369",{"v":26.5,"d":"$26.50"},{"v":52.99,"d":"$52.99"},null,{"v":0,"d":"$0.00"},"Classic","IN STOCK"]
[null,"Camden Brown",null,null,818172025376,"PCX5376",{"v":26.5,"d":"$26.50"},{"v":52.99,"d":"$52.99"},null,{"v":0,"d":"$0.00"},"Classic","IN STOCK"]
["Suede Series p. 8","Suede Tan",null,null,811685020791,"PCE0791",{"v":26.5,"d":"$26.50"},{"$f":"IF(G126=0,\" \",(G126*2)-0.01)","v":{"v":52.99,"d":"$52.99"}},null,{"v":0,"d":"$0.00"},"Classic","IN STOCK",{"$f":"+IFERROR(VLOOKUP(F126,#REF!,2,FALSE),\" \")","v":" "}]
[null,"Suede Black",null,null,811685020746,"PCE0746",{"v":26.5,"d":"$26.50"},{"v":52.99,"d":"$52.99"},null,{"v":0,"d":"$0.00"},"Classic","IN STOCK",{"$f":"+IFERROR(VLOOKUP(F127,#REF!,2,FALSE),\" \")","v":" "}]
[null,"Suede Grey",null,null,811685020975,"PCE0975",{"v":26.5,"d":"$26.50"},{"v":52.99,"d":"$52.99"},null,{"v":0,"d":"$0.00"},"Classic","IN STOCK",{"$f":"+IFERROR(VLOOKUP(F128,#REF!,2,FALSE),\" \")","v":" "}]
[null,"Suede Navy",null,null,811685020821,"PCE0821",{"v":26.5,"d":"$26.50"},{"v":52.99,"d":"$52.99"},null,{"v":0,"d":"$0.00"},"Classic","IN STOCK",{"$f":"+IFERROR(VLOOKUP(F129,#REF!,2,FALSE),\" \")","v":" "}]
["Braided Series          p.9","Braided Black 2.0 NEW!",null,null,818172028049,"PCD8049",{"v":26.5,"d":"$26.50"},{"$f":"IF(G130=0,\" \",(G130*2)-0.01)","v":{"v":52.99,"d":"$52.99"}},null,{"$f":"I130*G130","v":{"v":0,"d":"$0.00"}},"Classic","IN STOCK MARCH  "]
[null,"Braided Grey 2.0 NEW!",null,null,818172028063,"PCD8063",{"v":26.5,"d":"$26.50"},{"v":52.99,"d":"$52.99"},null,{"v":0,"d":"$0.00"},"Classic","IN STOCK MARCH  "]
[null,"Braided Navy 2.0 NEW!",null,null,818172028070,"PCD8070",{"v":26.5,"d":"$26.50"},{"v":52.99,"d":"$52.99"},null,{"v":0,"d":"$0.00"},"Classic","IN STOCK MARCH  "]
[null,"Braided Tan NEW!",null,null,818172028100,"PCD8100",{"v":26.5,"d":"$26.50"},{"v":52.99,"d":"$52.99"},null,{"v":0,"d":"$0.00"},"Classic","IN STOCK MARCH  "]
[null,"Braided Anchor NEW!",null,null,818172028094,"PCD8094",{"v":26.5,"d":"$26.50"},{"v":52.99,"d":"$52.99"},null,{"v":0,"d":"$0.00"},"Classic","IN STOCK MARCH  "]
[null,"Braided Charcoal 2.0 NEW!",null,null,818172028056,"PCD8056",{"v":26.5,"d":"$26.50"},{"v":52.99,"d":"$52.99"},null,{"v":0,"d":"$0.00"},"Classic","IN STOCK MARCH  "]
["Newport Series V.4             p.10","Newport Black",null,null,818172026533,"PCN6533",{"v":21,"d":"$21.00"},{"v":41.99,"d":"$41.99"},null,{"v":0,"d":"$0.00"},"Classic","IN STOCK",{"$f":"+IFERROR(VLOOKUP(F136,#REF!,2,FALSE),\" \")","v":" "}]
[null,"Newport Grey",null,null,818172026540,"PCN6540",{"v":21,"d":"$21.00"},{"v":41.99,"d":"$41.99"},null,{"v":0,"d":"$0.00"},"Classic","IN STOCK",{"$f":"+IFERROR(VLOOKUP(F137,#REF!,2,FALSE),\" \")","v":" "}]
[null,"Newport Navy",null,null,818172026557,"PCN6557",{"v":21,"d":"$21.00"},{"v":41.99,"d":"$41.99"},null,{"v":0,"d":"$0.00"},"Classic","IN STOCK",{"$f":"+IFERROR(VLOOKUP(F138,#REF!,2,FALSE),\" \")","v":" "}]
[null,"Newport Tan",null,null,818172026564,"PCN6564",{"v":21,"d":"$21.00"},{"v":41.99,"d":"$41.99"},null,{"v":0,"d":"$0.00"},"Classic","IN STOCK",{"$f":"+IFERROR(VLOOKUP(F139,#REF!,2,FALSE),\" \")","v":" "}]
[null,"Newport National",null,null,811685021408,"PCN1408",{"v":21,"d":"$21.00"},{"v":41.99,"d":"$41.99"},null,{"v":0,"d":"$0.00"},"Classic","IN STOCK",{"$f":"+IFERROR(VLOOKUP(F140,#REF!,2,FALSE),\" \")","v":" "}]
[null,"Newport White",null,null,811685021422,"PCN1422",{"v":21,"d":"$21.00"},{"v":41.99,"d":"$41.99"},null,{"v":0,"d":"$0.00"},"Classic","IN STOCK",{"$f":"+IFERROR(VLOOKUP(F141,#REF!,2,FALSE),\" \")","v":" "}]
["XL Series         p. 11","Classic Espresso XL",null,null,818172022542,"PCE2542",{"v":31.5,"d":"$31.50"},{"v":62.99,"d":"$62.99"},null,{"v":0,"d":"$0.00"},"Classic","IN STOCK"]
[null,"Classic Ebony XL",null,null,818172020500,"PCE0500",{"v":31.5,"d":"$31.50"},{"v":62.99,"d":"$62.99"},null,{"v":0,"d":"$0.00"},"Classic","IN STOCK"]
["Vanguard Series p.12"," Vanguard Slim Black",null,null,818172025055,"PCP5055",{"v":22.5,"d":"$22.50"},{"$f":"IF(G144=0,\" \",(G144*2)-0.01)","v":{"v":44.99,"d":"$44.99"}},null,{"$f":"I144*G144","v":{"v":0,"d":"$0.00"}},"Classic","IN STOCK",{"$f":"+IFERROR(VLOOKUP(F144,#REF!,2,FALSE),\" \")","v":" "}]
[null,"Vanguard Slim Brown",null,null,818172025062,"PCP5062",{"v":22.5,"d":"$22.50"},{"v":44.99,"d":"$44.99"},null,{"v":0,"d":"$0.00"},"Classic","IN STOCK",{"$f":"+IFERROR(VLOOKUP(F145,#REF!,2,FALSE),\" \")","v":" "}]
["Workman Series p. 13","Torque Black NEW!",null,null,818172028131,"PCW8131",{"v":26.5,"d":"$26.50"},{"v":52.99,"d":"$52.99"},null,{"v":0,"d":"$0.00"},"Classic","IN STOCK"]
[null,"Torque Coyote NEW!",null,null,818172028124,"PCW8124",{"v":26.5,"d":"$26.50"},{"v":52.99,"d":"$52.99"},null,{"v":0,"d":"$0.00"},"Classic","IN STOCK"]
["Frances Series p.14","Frances Brown NEW!",null,null,818172027769,"PCM7769",{"v":26.5,"d":"$26.50"},{"$f":"IF(G148=0,\" \",(G148*2)-0.01)","v":{"v":52.99,"d":"$52.99"}},null,{"v":0,"d":"$0.00"},"Classic","IN STOCK",{"$f":"+IFERROR(VLOOKUP(F148,#REF!,2,FALSE),\" \")","v":" "}]
[null,"Frances Pink NEW!",null,null,818172027752,"PCM7752",{"v":26.5,"d":"$26.50"},{"v":52.99,"d":"$52.99"},null,{"v":0,"d":"$0.00"},"Classic","IN STOCK"]
[null,"Frances Ebony",null,null,811685020586,"PCM0586",{"v":26.5,"d":"$26.50"},{"$f":"IF(G150=0,\" \",(G150*2)-0.01)","v":{"v":52.99,"d":"$52.99"}},null,{"$f":"I150*G150","v":{"v":0,"d":"$0.00"}},"Classic","IN STOCK"]
[null,"Frances White",null,null,811685020593,"PCM0593",{"v":26.5,"d":"$26.50"},{"v":52.99,"d":"$52.99"},null,{"v":0,"d":"$0.00"},"Classic","IN STOCK",{"$f":"+IFERROR(VLOOKUP(F151,#REF!,2,FALSE),\" \")","v":" "}]
["Dakota Series p.15","Dakota Ebony NEW!",null,null,818172028025,"PCK8025",{"v":21,"d":"$21.00"},{"v":41.99,"d":"$41.99"},null,{"v":0,"d":"$0.00"},"Classic","IN STOCK"]
[null,"Dakota White NEW!",null,null,818172028001,"PCK8001",{"v":21,"d":"$21.00"},{"v":41.99,"d":"$41.99"},null,{"v":0,"d":"$0.00"},"Classic","IN STOCK MARCH"]
[null,"Dakota Brown NEW!",null,null,818172028018,"PCK8018",{"v":21,"d":"$21.00"},{"v":41.99,"d":"$41.99"},null,{"v":0,"d":"$0.00"},"Classic","IN STOCK"]
["Legardo Series p.16","Legardo Brown",null,null,818172024867,"PCI4867",{"v":21,"d":"$21.00"},{"$f":"IF(G155=0,\" \",(G155*2)-0.01)","v":{"v":41.99,"d":"$41.99"}},null,{"v":0,"d":"$0.00"},"Classic","IN STOCK",{"$f":"+IFERROR(VLOOKUP(F155,#REF!,2,FALSE),\" \")","v":" "}]
[null,"Legardo Pink",null,null,818172024836,"PCI4836",{"v":21,"d":"$21.00"},{"$f":"IF(G156=0,\" \",(G156*2)-0.01)","v":{"v":41.99,"d":"$41.99"}},null,{"$f":"I156*G156","v":{"v":0,"d":"$0.00"}},"Classic","IN STOCK",{"$f":"+IFERROR(VLOOKUP(F156,#REF!,2,FALSE),\" \")","v":" "}]
["Madrid Series p.16","Madrid Black",null,null,818172024959,"PCK4959",{"v":21,"d":"$21.00"},{"$f":"IF(G157=0,\" \",(G157*2)-0.01)","v":{"v":41.99,"d":"$41.99"}},null,{"$f":"I157*G157","v":{"v":0,"d":"$0.00"}},"Classic","IN STOCK",{"$f":"+IFERROR(VLOOKUP(F157,#REF!,2,FALSE),\" \")","v":" "}]
[null,"Madrid White",null,null,818172024966,"PCK4966",{"v":21,"d":"$21.00"},{"v":41.99,"d":"$41.99"},null,{"v":0,"d":"$0.00"},"Classic","IN STOCK",{"$f":"+IFERROR(VLOOKUP(F158,#REF!,2,FALSE),\" \")","v":" "}]
["Miscellaneous Packages     p.17","Portofino Cordovan",null,null,818172022504,"PCP2504",{"v":35,"d":"$35.00"},{"v":69.99,"d":"$69.99"},null,{"v":0,"d":"$0.00"},"Classic","IN STOCK",{"$f":"+IFERROR(VLOOKUP(F159,#REF!,2,FALSE),\" \")","v":" "}]
[null,"Portofino Brown",null,null,818172023747,"PCP3747",{"v":35,"d":"$35.00"},{"v":69.99,"d":"$69.99"},null,{"v":0,"d":"$0.00"},"Classic","IN STOCK",{"$f":"+IFERROR(VLOOKUP(F160,#REF!,2,FALSE),\" \")","v":" "}]
[null,"Houston Black",null,null,818172026762,"PCE6762",{"v":26.5,"d":"$26.50"},{"v":52.99,"d":"$52.99"},null,{"v":0,"d":"$0.00"},"Classic","IN STOCK"]
[null,"Sidney Black",null,null,818172027998,"PCM7998",{"v":26.5,"d":"$26.50"},{"v":52.99,"d":"$52.99"},null,{"v":0,"d":"$0.00"},"Classic","IN STOCK"]
["Heritage Texas Series             (not pictured)","Hampton Texas",null,null,818172023600,"PCM3600",{"v":26.5,"d":"$26.50"},{"$f":"IF(G163=0,\" \",(G163*2)-0.01)","v":{"v":52.99,"d":"$52.99"}},null,{"$f":"I163*G163","v":{"v":0,"d":"$0.00"}},"Classic","OUT OF STOCK - FEBRUARY",{"$f":"+IFERROR(VLOOKUP(F164,#REF!,2,FALSE),\" \")","v":" "}]
[null,"Aston Pewter Texas Etched w/ Smooth Black Strap",null,null,811685028070,"PCH8070",{"v":28,"d":"$28.00"},{"v":55.99,"d":"$55.99"},null,{"v":0,"d":"$0.00"},"Classic","IN STOCK",{"$f":"+IFERROR(VLOOKUP(F165,#REF!,2,FALSE),\" \")","v":" "}]
[null,"Aston Black Texas Etched w/ Smooth Black Strap",null,null,811685028063,"PCB8063",{"v":28,"d":"$28.00"},{"v":55.99,"d":"$55.99"},null,{"v":0,"d":"$0.00"},"Classic","LOW INVENTORY",{"$f":"+IFERROR(VLOOKUP(F166,#REF!,2,FALSE),\" \")","v":" "}]
[null,"Classic Black Series Texas w/ Smooth Black Strap",null,null,811685024638,"PCB4638",{"v":28,"d":"$28.00"},{"v":55.99,"d":"$55.99"},null,{"v":0,"d":"$0.00"},"Classic","OUT OF STOCK",{"$f":"+IFERROR(VLOOKUP(F167,#REF!,2,FALSE),\" \")","v":" "}]
[null,"Go-In! Black Texas w/ Smooth Black Strap",null,null,811685023884,"PGB3884",{"v":31.5,"d":"$31.50"},{"v":62.99,"d":"$62.99"},null,{"v":0,"d":"$0.00"},"Golf","IN STOCK",{"$f":"+IFERROR(VLOOKUP(F168,#REF!,2,FALSE),\" \")","v":" "}]
[null,"Go-In! Color Texas Heritage White ",null,null,818172026342,"PGH6342",{"v":31.5,"d":"$31.50"},{"v":62.99,"d":"$62.99"},null,{"v":0,"d":"$0.00"},"Golf","IN STOCK",{"$f":"+IFERROR(VLOOKUP(F169,#REF!,2,FALSE),\" \")","v":" "}]
[null,"Go-In! Color Texas Heritage Black",null,null,818172026335,"PGH6335",{"v":31.5,"d":"$31.50"},{"v":62.99,"d":"$62.99"},null,{"v":0,"d":"$0.00"},"Golf","IN STOCK",{"$f":"+IFERROR(VLOOKUP(F170,#REF!,2,FALSE),\" \")","v":" "}]
[null,"Sleek Crystal Onyx ",null,null,"811685022238","PGK2238",{"v":25,"d":"$25.00"},{"$f":"(G170*2)-0.01","v":{"v":49.99,"d":"$49.99"}},null,{"v":0,"d":"$0.00"},"Golf","IN STOCK",{"$f":"+IFERROR(VLOOKUP(F171,#REF!,2,FALSE),\" \")","v":" "}]
[null,"Sleek White ",null,null,"811685022252","PGK2252",{"v":20,"d":"$20.00"},{"v":39.99,"d":"$39.99"},null,{"v":0,"d":"$0.00"},"Golf","IN STOCK",{"$f":"+IFERROR(VLOOKUP(F172,#REF!,2,FALSE),\" \")","v":" "}]
[null,"Sleek Crystal White ",null,null,"811685022269","PGK2269",{"v":25,"d":"$25.00"},{"v":49.99,"d":"$49.99"},null,{"v":0,"d":"$0.00"},"Golf","IN STOCK",{"$f":"+IFERROR(VLOOKUP(F173,#REF!,2,FALSE),\" \")","v":" "}]
[null,"Gem Ebony ",null,null,"811685022016","PGM2016",{"v":25,"d":"$25.00"},{"v":49.99,"d":"$49.99"},null,{"v":0,"d":"$0.00"},"Golf","IN STOCK",{"$f":"+IFERROR(VLOOKUP(F174,#REF!,2,FALSE),\" \")","v":" "}]
[null,"Gem White ",null,null,"811685022009","PGM2009",{"v":25,"d":"$25.00"},{"v":49.99,"d":"$49.99"},null,{"v":0,"d":"$0.00"},"Golf","IN STOCK",{"$f":"+IFERROR(VLOOKUP(F175,#REF!,2,FALSE),\" \")","v":" "}]
[null,"\"The Match\" Deep Sea Navy Go-In!",null,null,818172023112,"MPG3112",{"v":50,"d":"$50.00"},{"v":99.99,"d":"$99.99"},null,{"v":0,"d":"$0.00"},"Classic","IN STOCK",{"$f":"+IFERROR(VLOOKUP(F176,#REF!,2,FALSE),\" \")","v":" "}]
[null,"\"The Match\" Pitch Black Go-In!",null,null,818172023129,"MPG3129",{"v":50,"d":"$50.00"},{"v":99.99,"d":"$99.99"},null,{"v":0,"d":"$0.00"},"Classic","IN STOCK",{"$f":"+IFERROR(VLOOKUP(F177,#REF!,2,FALSE),\" \")","v":" "}]
[null,"\"The Match\" Winner White Go-In!",null,null,818172023143,"MPG3143",{"v":50,"d":"$50.00"},{"v":99.99,"d":"$99.99"},null,{"v":0,"d":"$0.00"},"Classic","IN STOCK",{"$f":"+IFERROR(VLOOKUP(F178,#REF!,2,FALSE),\" \")","v":" "}]
[null,"\"The Match\" Storm Grey Go-In!",null,null,818172023136,"MPG3136",{"v":50,"d":"$50.00"},{"v":99.99,"d":"$99.99"},null,{"v":0,"d":"$0.00"},"Classic","IN STOCK",{"$f":"+IFERROR(VLOOKUP(F179,#REF!,2,FALSE),\" \")","v":" "}]
[null,"Deep Sea Navy Cap w/ Nexbelt logo",null,null,818172021583,"HCN1583",{"v":16,"d":"$16.00"},{"v":31.99,"d":"$31.99"},null,{"v":0,"d":"$0.00"},"Classic","IN STOCK",{"$f":"+IFERROR(VLOOKUP(F180,#REF!,2,FALSE),\" \")","v":" "}]
[null,"Pitch Black Cap Nexbelt logo",null,null,818172021606,"HCN1606",{"v":16,"d":"$16.00"},{"v":31.99,"d":"$31.99"},null,{"v":0,"d":"$0.00"},"Classic","IN STOCK",{"$f":"+IFERROR(VLOOKUP(F181,#REF!,2,FALSE),\" \")","v":" "}]
[null,"Storm Grey Cap Nexbelt logo",null,null,818172021590,"HCN1590",{"v":16,"d":"$16.00"},{"v":31.99,"d":"$31.99"},null,{"v":0,"d":"$0.00"},"Classic","IN STOCK",{"$f":"+IFERROR(VLOOKUP(F182,#REF!,2,FALSE),\" \")","v":" "}]
[null,"Winner White Cap Nexbelt logo",null,null,818172021613,"HCN1613",{"v":16,"d":"$16.00"},{"v":31.99,"d":"$31.99"},null,{"v":0,"d":"$0.00"},"Classic","IN STOCK",{"$f":"+IFERROR(VLOOKUP(F183,#REF!,2,FALSE),\" \")","v":" "}]
[null,"Pitch Black Beanie",null,null,818172021682,"HBN1682",{"v":9,"d":"$9.00"},{"v":17.99,"d":"$17.99"},null,{"v":0,"d":"$0.00"},"Classic","IN STOCK",{"$f":"+IFERROR(VLOOKUP(F184,#REF!,2,FALSE),\" \")","v":" "}]
[null,"Deep Sea Navy Beanie ",null,null,818172021668,"HBN1668",{"v":9,"d":"$9.00"},{"v":17.99,"d":"$17.99"},null,{"v":0,"d":"$0.00"},"Classic","IN STOCK",{"$f":"+IFERROR(VLOOKUP(F185,#REF!,2,FALSE),\" \")","v":" "}]
[null,"Storm Grey Beanie",null,null,818172021675,"HBN1675",{"v":9,"d":"$9.00"},{"v":17.99,"d":"$17.99"},null,{"v":0,"d":"$0.00"},"Classic","IN STOCK",{"$f":"+IFERROR(VLOOKUP(F190,#REF!,2,FALSE),\" \")","v":" "}]
[null,"Winner White Beanie",null,null,818172021699,"HBN1699",{"v":9,"d":"$9.00"},{"$f":"(G186*2)-0.01","v":{"v":17.99,"d":"$17.99"}},null,{"$f":"I186*G186","v":{"v":0,"d":"$0.00"}},"Classic","IN STOCK"]
[null,"Go-In! Match Belt Pitch Black ",{"$nulls":3},"PGG3044",{"v":31.5,"d":"$31.50"},{"v":62.99,"d":"$62.99"},null,{"v":0,"d":"$0.00"},"Golf","IN STOCK"]
[null,"Go-In! Match Belt Winner White",{"$nulls":3},"PGG3051",{"v":31.5,"d":"$31.50"},{"v":62.99,"d":"$62.99"},null,{"v":0,"d":"$0.00"},"Golf","IN STOCK"]
[null,"Go-In! Match Belt Storm Grey",{"$nulls":3},"PGG3068",{"v":31.5,"d":"$31.50"},{"v":62.99,"d":"$62.99"},null,{"v":0,"d":"$0.00"},"Golf","IN STOCK"]
[null,"Go-In! Match Belt Deep Sea Navy",{"$nulls":3},"PGG3204",{"v":31.5,"d":"$31.50"},{"v":62.99,"d":"$62.99"},null,{"v":0,"d":"$0.00"},"Golf","IN STOCK",{"$f":"+IFERROR(VLOOKUP(#REF!,#REF!,2,FALSE),\" \")","v":" "}]
["Separate Buckles","Buckle: Platinum X Factor Fast Eddie NEW!",null,null,818172027479,"BGX7479",{"v":13.5,"d":"$13.50"},{"v":26.99,"d":"$26.99"},null,{"v":0,"d":"$0.00"},"Buckle","IN STOCK",{"$f":"+IFERROR(VLOOKUP(F196,#REF!,2,FALSE),\" \")","v":" "}]
[null,"Buckle: Lucky Blue X Factor Fast Eddie NEW!",null,null,818172027486,"BGX7486",{"v":13.5,"d":"$13.50"},{"$f":"(G192*2)-0.01","v":{"v":26.99,"d":"$26.99"}},null,{"$f":"I192*G192","v":{"v":0,"d":"$0.00"}},"Buckle","IN STOCK"]
[null,"Buckle: Xavier X Factor Fast Eddie NEW!",null,null,818172028186,"BGX8186",{"v":13.5,"d":"$13.50"},{"v":26.99,"d":"$26.99"},null,{"v":0,"d":"$0.00"},"Buckle","IN STOCK APRIL"]
[null,"Buckle: Go-In! Shield Satin Nickel NEW!",null,null,818172027462,"BGG7462",{"v":11.5,"d":"$11.50"},{"v":22.99,"d":"$22.99"},null,{"v":0,"d":"$0.00"},"Buckle","IN STOCK"]
[null,"Buckle: Go-In! Shield Nickel Beveled",null,null,818172024508,"BGG4508",{"v":11.5,"d":"$11.50"},{"$f":"(G195*2)-0.01","v":{"v":22.99,"d":"$22.99"}},null,{"$f":"I195*G195","v":{"v":0,"d":"$0.00"}},"Buckle","IN STOCK"]
[null,"Buckle: Classic Shield Nickel Beveled",null,null,818172024485,"BCE4485",{"v":10.5,"d":"$10.50"},{"$f":"(G196*2)-0.01","v":{"v":20.99,"d":"$20.99"}},null,{"$f":"I196*G196","v":{"v":0,"d":"$0.00"}},"Buckle","IN STOCK",{"$f":"+IFERROR(VLOOKUP(F197,#REF!,2,FALSE),\" \")","v":" "}]
[null,"Buckle: Classic Shield Gunmetal Beveled",null,null,818172025413,"BCE5413",{"v":10.5,"d":"$10.50"},{"v":20.99,"d":"$20.99"},null,{"v":0,"d":"$0.00"},"Buckle","IN STOCK",{"$f":"+IFERROR(VLOOKUP(F198,#REF!,2,FALSE),\" \")","v":" "}]
[null,"Buckle: Go-In! Shield Gunmetal Beveled",null,null,818172025406,"BGG5406",{"v":11.5,"d":"$11.50"},{"v":22.99,"d":"$22.99"},null,{"v":0,"d":"$0.00"},"Buckle","IN STOCK",{"$f":"+IFERROR(VLOOKUP(F201,#REF!,2,FALSE),\" \")","v":" "}]
[null,"Buckle: Go-In! Stealth Beveled",null,null,818172025383,"BGG5383",{"v":11.5,"d":"$11.50"},{"$f":"(G199*2)-0.01","v":{"v":22.99,"d":"$22.99"}},null,{"$f":"I199*G199","v":{"v":0,"d":"$0.00"}},"Buckle","OUT OF STOCK",{"$f":"+IFERROR(VLOOKUP(F199,#REF!,2,FALSE),\" \")","v":" "}]
[null,"Buckle: Classic Stealth Beveled",null,null,818172025390,"BCE5390",{"v":10.5,"d":"$10.50"},{"$f":"(G200*2)-0.01","v":{"v":20.99,"d":"$20.99"}},null,{"$f":"I200*G200","v":{"v":0,"d":"$0.00"}},"Buckle","IN STOCK - LOW INVENTORY",{"$f":"+IFERROR(VLOOKUP(#REF!,#REF!,2,FALSE),\" \")","v":" "}]
[null,"Buckle: Fast Eddie Beveled Nickel",null,null,818172024591,"BGF4591",{"v":13.5,"d":"$13.50"},{"$f":"(G201*2)-0.01","v":{"v":26.99,"d":"$26.99"}},null,{"$f":"I201*G201","v":{"v":0,"d":"$0.00"}},"Buckle","OUT OF STOCK",{"$f":"+IFERROR(VLOOKUP(F200,#REF!,2,FALSE),\" \")","v":" "}]
[null,"Buckle: Houston Brushed Nickel",null,null,811685027417,"BCS7417",{"v":10.5,"d":"$10.50"},{"$f":"(G202*2)-0.01","v":{"v":20.99,"d":"$20.99"}},null,{"$f":"I202*G202","v":{"v":0,"d":"$0.00"}},"Buckle","IN STOCK - LOW INVENTORY",{"$f":"+IFERROR(VLOOKUP(#REF!,#REF!,2,FALSE),\" \")","v":" "}]
[null,"Buckle: Go-In! Beveled USA Black",null,null,818172025901,"BGB5901",{"v":11.5,"d":"$11.50"},{"$f":"(G203*2)-0.01","v":{"v":22.99,"d":"$22.99"}},null,{"v":0,"d":"$0.00"},"Buckle","IN STOCK",{"$f":"+IFERROR(VLOOKUP(F204,#REF!,2,FALSE),\" \")","v":" "}]
[null,"Buckle: Classic Beveled USA Black",null,null,818172025918,"BCB5918",{"v":10.5,"d":"$10.50"},{"v":20.99,"d":"$20.99"},null,{"v":0,"d":"$0.00"},"Buckle","IN STOCK",{"$f":"+IFERROR(VLOOKUP(F205,#REF!,2,FALSE),\" \")","v":" "}]
[null,"Buckle: Go-In! Beveled USA Gunmetal ",null,null,818172025888,"BGH5888",{"v":11.5,"d":"$11.50"},{"v":22.99,"d":"$22.99"},null,{"v":0,"d":"$0.00"},"Buckle","IN STOCK",{"$f":"+IFERROR(VLOOKUP(F206,#REF!,2,FALSE),\" \")","v":" "}]
[null,"Buckle: Classic Beveled USA Gunmetal ",null,null,818172025895,"BCH5895",{"v":10.5,"d":"$10.50"},{"v":20.99,"d":"$20.99"},null,{"v":0,"d":"$0.00"},"Buckle","IN STOCK",{"$f":"+IFERROR(VLOOKUP(F207,#REF!,2,FALSE),\" \")","v":" "}]
[null,"Buckle: Go-In! Beveled USA Color",null,null,818172025444,"BGH5444",{"v":11.5,"d":"$11.50"},{"v":22.99,"d":"$22.99"},null,{"v":0,"d":"$0.00"},"Buckle","IN STOCK",{"$f":"+IFERROR(VLOOKUP(F208,#REF!,2,FALSE),\" \")","v":" "}]
[null,"Buckle: Aston USA Color",null,null,"818172020579","BCH0579",{"v":13.5,"d":"$13.50"},{"v":26.99,"d":"$26.99"},null,{"v":0,"d":"$0.00"},"Buckle","IN STOCK",{"$f":"+IFERROR(VLOOKUP(F209,#REF!,2,FALSE),\" \")","v":" "}]
[null,"Buckle: Aston Embossed USA",null,null,"811685027639","BCH7639",{"v":16,"d":"$16.00"},{"v":31.99,"d":"$31.99"},null,{"v":0,"d":"$0.00"},"Buckle","IN STOCK",{"$f":"+IFERROR(VLOOKUP(F210,#REF!,2,FALSE),\" \")","v":" "}]
[null,"Buckle: Aston Brushed Pewter",null,null,"811685025970","BCE5970",{"v":10.5,"d":"$10.50"},{"v":20.99,"d":"$20.99"},null,{"v":0,"d":"$0.00"},"Buckle","LOW INVENTORY",{"$f":"+IFERROR(VLOOKUP(F211,#REF!,2,FALSE),\" \")","v":" "}]
[null,"Buckle: Aston Black",null,null,"811685025949","BCE5949",{"v":10.5,"d":"$10.50"},{"v":20.99,"d":"$20.99"},null,{"v":0,"d":"$0.00"},"Buckle","OUT OF STOCK",{"$f":"+IFERROR(VLOOKUP(F212,#REF!,2,FALSE),\" \")","v":" "}]
[null,"Buckle: Eagle Black",null,null,"811685025956","BCE5956",{"v":10.5,"d":"$10.50"},{"v":20.99,"d":"$20.99"},null,{"v":0,"d":"$0.00"},"Buckle","IN STOCK",{"$f":"+IFERROR(VLOOKUP(F213,#REF!,2,FALSE),\" \")","v":" "}]
[null,"Buckle: Eagle White",null,null,"811685025963","BCE5963",{"v":10.5,"d":"$10.50"},{"v":20.99,"d":"$20.99"},null,{"v":0,"d":"$0.00"},"Buckle","IN STOCK",{"$f":"+IFERROR(VLOOKUP(F214,#REF!,2,FALSE),\" \")","v":" "}]
[null,"Buckle: Apollo Pewter",null,null,811685026243,"BCS6243",{"v":10.5,"d":"$10.50"},{"v":20.99,"d":"$20.99"},null,{"v":0,"d":"$0.00"},"Buckle","IN STOCK",{"$f":"+IFERROR(VLOOKUP(F215,#REF!,2,FALSE),\" \")","v":" "}]
[null,"Buckle: Apollo Black",null,null,"811685026250","BCS6250",{"v":10.5,"d":"$10.50"},{"$f":"(G215*2)-0.01","v":{"v":20.99,"d":"$20.99"}},null,{"v":0,"d":"$0.00"},"Buckle","LOW INVENTORY"]
[null,"Buckle: Jarrod Pearl Nickel NEW!",null,null,811685020487,"BCE0487",{"v":10.5,"d":"$10.50"},{"v":20.99,"d":"$20.99"},null,{"v":0,"d":"$0.00"},"Buckle","IN STOCK"]
[null,"Buckle: Jake Satin Nickel",null,null,811685029916,"BCP9916",{"v":10.5,"d":"$10.50"},{"v":20.99,"d":"$20.99"},null,{"v":0,"d":"$0.00"},"Buckle","OUT OF STOCK - FEBRUARY",{"$f":"+IFERROR(VLOOKUP(F218,#REF!,2,FALSE),\" \")","v":" "}]
[null,"Buckle: Artemis Brushed Nickel",null,null,"811685021729","BCA1729",{"v":10.5,"d":"$10.50"},{"$f":"(G218*2)-0.01","v":{"v":20.99,"d":"$20.99"}},null,{"v":0,"d":"$0.00"},"Buckle","IN STOCK",{"$f":"+IFERROR(VLOOKUP(F219,#REF!,2,FALSE),\" \")","v":" "}]
[null,"Buckle: Prometheus Gun Metal",null,null,"811685021163","BCL1163",{"v":10.5,"d":"$10.50"},{"v":20.99,"d":"$20.99"},null,{"v":0,"d":"$0.00"},"Buckle","IN STOCK",{"$f":"+IFERROR(VLOOKUP(F220,#REF!,2,FALSE),\" \")","v":" "}]
[null,"Buckle: Prometheus Matte Nickel",null,null,818172021859,"BCL1859",{"v":10.5,"d":"$10.50"},{"v":20.99,"d":"$20.99"},null,{"v":0,"d":"$0.00"},"Buckle","IN STOCK",{"$f":"+IFERROR(VLOOKUP(F221,#REF!,2,FALSE),\" \")","v":" "}]
[null,"Buckle: Aldrich Satin Nickel",null,null,818172022634,"BCM2634",{"v":10.5,"d":"$10.50"},{"$f":"(G221*2)-0.01","v":{"v":20.99,"d":"$20.99"}},null,{"$f":"I221*G218","v":{"v":0,"d":"$0.00"}},"Buckle","IN STOCK",{"$f":"+IFERROR(VLOOKUP(F222,#REF!,2,FALSE),\" \")","v":" "}]
[null,"Buckle: Oscar Brass",null,null,811685026168,"BCN6168",{"v":10,"d":"$10.00"},{"v":19.99,"d":"$19.99"},null,{"v":0,"d":"$0.00"},"Buckle","IN STOCK",{"$f":"+IFERROR(VLOOKUP(F223,#REF!,2,FALSE),\" \")","v":" "}]
[null,"Buckle: Allie Chrome",null,null,811685023983,"BCI3983",{"v":10,"d":"$10.00"},{"v":19.99,"d":"$19.99"},null,{"v":0,"d":"$0.00"},"Buckle","IN STOCK",{"$f":"+IFERROR(VLOOKUP(F224,#REF!,2,FALSE),\" \")","v":" "}]
["Separate Straps","Strap: Alligator Black",null,null,811685020913,"SAL0913",{"v":37,"d":"$37.00"},{"$f":"(G224*2)-0.01","v":{"v":73.99,"d":"$73.99"}},null,{"$f":"I224*G224","v":{"v":0,"d":"$0.00"}},"Strap","IN STOCK",{"$f":"+IFERROR(VLOOKUP(F225,#REF!,2,FALSE),\" \")","v":" "}]
[null,"Strap: Alligator Coffee ",null,null,"811685023747","SAL3747",{"v":37,"d":"$37.00"},{"v":73.99,"d":"$73.99"},null,{"v":0,"d":"$0.00"},"Strap","IN STOCK",{"$f":"+IFERROR(VLOOKUP(F226,#REF!,2,FALSE),\" \")","v":" "}]
[null,"Strap: Alligator Grey II",null,null,"811685027066","SAL7066",{"v":37,"d":"$37.00"},{"v":73.99,"d":"$73.99"},null,{"v":0,"d":"$0.00"},"Strap","IN STOCK",{"$f":"+IFERROR(VLOOKUP(F227,#REF!,2,FALSE),\" \")","v":" "}]
[null,"Strap: Alligator Navy",null,null,"811685020944","SAL0944",{"v":37,"d":"$37.00"},{"v":73.99,"d":"$73.99"},null,{"v":0,"d":"$0.00"},"Strap","IN STOCK",{"$f":"+IFERROR(VLOOKUP(F228,#REF!,2,FALSE),\" \")","v":" "}]
[null,"Strap: Alligator Tan",null,null,"811685020951","SAL0951",{"v":37,"d":"$37.00"},{"v":73.99,"d":"$73.99"},null,{"v":0,"d":"$0.00"},"Strap","IN STOCK",{"$f":"+IFERROR(VLOOKUP(F229,#REF!,2,FALSE),\" \")","v":" "}]
[null,"Strap: Alligator White",null,null,811685020968,"SAL0968",{"v":37,"d":"$37.00"},{"v":73.99,"d":"$73.99"},null,{"v":0,"d":"$0.00"},"Strap","LOW INVENTORY",{"$f":"+IFERROR(VLOOKUP(F230,#REF!,2,FALSE),\" \")","v":" "}]
[null,"Strap: Carbon Black",null,null,811685020760,"SEL0760",{"v":21,"d":"$21.00"},{"v":41.99,"d":"$41.99"},null,{"v":0,"d":"$0.00"},"Strap","IN STOCK",{"$f":"+IFERROR(VLOOKUP(F231,#REF!,2,FALSE),\" \")","v":" "}]
[null,"Strap: Ebony ",null,null,"811685020852","SEL0852",{"v":21,"d":"$21.00"},{"$f":"(G231*2)-0.01","v":{"v":41.99,"d":"$41.99"}},null,{"$f":"I231*G231","v":{"v":0,"d":"$0.00"}},"Strap","OUT OF STOCK - TBD",{"$f":"+IFERROR(VLOOKUP(#REF!,#REF!,2,FALSE),\" \")","v":" "}]
[null,"Strap: Smooth Black ",null,null,"811685020869","SEL0869",{"v":21,"d":"$21.00"},{"v":41.99,"d":"$41.99"},null,{"v":0,"d":"$0.00"},"Strap","LOW INVENTORY",{"$f":"+IFERROR(VLOOKUP(F233,#REF!,2,FALSE),\" \")","v":" "}]
[null,"Strap: Carbon White ",null,null,"811685020845","SEL0845",{"v":21,"d":"$21.00"},{"v":41.99,"d":"$41.99"},null,{"v":0,"d":"$0.00"},"Strap","IN STOCK",{"$f":"+IFERROR(VLOOKUP(F234,#REF!,2,FALSE),\" \")","v":" "}]
[null,"Strap: Smooth White",null,null,"811685020906","SEL0906",{"v":21,"d":"$21.00"},{"v":41.99,"d":"$41.99"},null,{"v":0,"d":"$0.00"},"Strap","IN STOCK",{"$f":"+IFERROR(VLOOKUP(F235,#REF!,2,FALSE),\" \")","v":" "}]
[null,"Strap: Espresso ",null,null,"811685024683","SEL4683",{"v":21,"d":"$21.00"},{"v":41.99,"d":"$41.99"},null,{"v":0,"d":"$0.00"},"Strap","IN STOCK",{"$f":"+IFERROR(VLOOKUP(F236,#REF!,2,FALSE),\" \")","v":" "}]
[null,"Strap: Espresso XL (not pictured)",null,null,818172020371,"SEL0371",{"v":31.5,"d":"$31.50"},{"v":62.99,"d":"$62.99"},null,{"v":0,"d":"$0.00"},"Strap","IN STOCK",{"$f":"+IFERROR(VLOOKUP(F237,#REF!,2,FALSE),\" \")","v":" "}]
[null,"Strap: Walnut ",null,null,"811685020753","SEL0753",{"v":21,"d":"$21.00"},{"v":41.99,"d":"$41.99"},null,{"v":0,"d":"$0.00"},"Strap","IN STOCK",{"$f":"+IFERROR(VLOOKUP(F245,#REF!,2,FALSE),\" \")","v":" "}]
[null,"Strap: Smooth Grey",null,null,818172027516,"SEL7516",{"v":21,"d":"$21.00"},{"v":41.99,"d":"$41.99"},null,{"v":0,"d":"$0.00"},"Strap","IN STOCK"]
[null,"Strap: Pebble Grain Sunday Red NEW!",null,null,818172028117,"SCL8117",{"v":21,"d":"$21.00"},{"$f":"IF(G239=0,\" \",(G239*2)-0.01)","v":{"v":41.99,"d":"$41.99"}},null,{"$f":"I239*G239","v":{"v":0,"d":"$0.00"}},"Strap","IN STOCK"]
[null,"Strap: Pebble Grain Storm Grey (white stitch)",null,null,818172021422,"SCL1422",{"v":21,"d":"$21.00"},{"$f":"IF(G240=0,\" \",(G240*2)-0.01)","v":{"v":41.99,"d":"$41.99"}},null,{"$f":"I240*G240","v":{"v":0,"d":"$0.00"}},"Strap","IN STOCK - LOW INVENTORY"]
[null,"Strap: Pebble Grain Tobacco ",null,null,811685023716,"SCL3716",{"v":21,"d":"$21.00"},{"$f":"IF(G241=0,\" \",(G241*2)-0.01)","v":{"v":41.99,"d":"$41.99"}},null,{"$f":"I241*G241","v":{"v":0,"d":"$0.00"}},"Strap","IN STOCK"]
[null,"Strap: Pebble Grain Pitch Black  ",null,null,811685023761,"SCL3761",{"v":21,"d":"$21.00"},{"$f":"IF(G242=0,\" \",(G242*2)-0.01)","v":{"v":41.99,"d":"$41.99"}},null,{"v":0,"d":"$0.00"},"Strap","IN STOCK"]
[null,"Strap: Pebble Grain Cognac  ",null,null,811685023631,"SCL3631",{"v":21,"d":"$21.00"},{"$f":"IF(G243=0,\" \",(G243*2)-0.01)","v":{"v":41.99,"d":"$41.99"}},null,{"v":0,"d":"$0.00"},"Strap","IN STOCK",{"$f":"+IFERROR(VLOOKUP(F246,#REF!,2,FALSE),\" \")","v":" "}]
[null,"Strap: Pebble Grain Winner White",null,null,811685023754,"SCL3754",{"v":21,"d":"$21.00"},{"$f":"IF(G244=0,\" \",(G244*2)-0.01)","v":{"v":41.99,"d":"$41.99"}},null,{"v":0,"d":"$0.00"},"Strap","IN STOCK",{"$f":"+IFERROR(VLOOKUP(F241,#REF!,2,FALSE),\" \")","v":" "}]
[null,"Strap: Pebble Grain Deep Sea Navy   ",null,null,811685023617,"SCL3617",{"v":21,"d":"$21.00"},{"$f":"(G245*2)-0.01","v":{"v":41.99,"d":"$41.99"}},null,{"v":0,"d":"$0.00"},"Strap","IN STOCK",{"$f":"+IFERROR(VLOOKUP(F242,#REF!,2,FALSE),\" \")","v":" "}]
[null,"Strap: Pebble Grain Smoke Grey ",null,null,811685023723,"SCL3723",{"v":21,"d":"$21.00"},{"$f":"IF(G246=0,\" \",(G246*2)-0.01)","v":{"v":41.99,"d":"$41.99"}},null,{"v":0,"d":"$0.00"},"Strap","IN STOCK - LOW INVENTORY",{"$f":"+IFERROR(VLOOKUP(F243,#REF!,2,FALSE),\" \")","v":" "}]
[null,"Strap: Heritage Captain w/ red & white stitch",null,null,818172021903,"SCL1903",{"v":21,"d":"$21.00"},{"$f":"IF(G247=0,\" \",(G247*2)-0.01)","v":{"v":41.99,"d":"$41.99"}},null,{"v":0,"d":"$0.00"},"Strap","IN STOCK",{"$f":"+IFERROR(VLOOKUP(F244,#REF!,2,FALSE),\" \")","v":" "}]
[null,"Strap: Legardo Black",null,null,811685023679,"SWL3679",{"v":21,"d":"$21.00"},{"$f":"IF(G248=0,\" \",(G248*2)-0.01)","v":{"v":41.99,"d":"$41.99"}},null,{"v":0,"d":"$0.00"},"Strap","LOW INVENTORY"]
[null,"Strap: Legardo Brown",null,null,811685023693,"SWL3693",{"v":21,"d":"$21.00"},{"v":41.99,"d":"$41.99"},null,{"v":0,"d":"$0.00"},"Strap","IN STOCK"]
[null,"Strap: Portofino Cordovan",null,null,818172021538,"SPL1538",{"v":25,"d":"$25.00"},{"v":49.99,"d":"$49.99"},null,{"v":0,"d":"$0.00"},"Strap","LOW INVENTORY"]
[null,"Strap: Newport Tan",null,null,811685021378,"SNC1378",{"v":16,"d":"$16.00"},{"$f":"IF(G251=0,\" \",(G251*2)-0.01)","v":{"v":31.99,"d":"$31.99"}},null,{"$f":"I251*G251","v":{"v":0,"d":"$0.00"}},"Strap","IN STOCK"]
[null,"Strap: Newport National",null,null,811685021392,"SNC1392",{"v":16,"d":"$16.00"},{"v":31.99,"d":"$31.99"},null,{"v":0,"d":"$0.00"},"Strap","IN STOCK"]
[null,"Strap: Newport Navy",null,null,818172025123,"SNC5123",{"v":16,"d":"$16.00"},{"v":31.99,"d":"$31.99"},null,{"v":0,"d":"$0.00"},"Strap","IN STOCK"]
[null,"Strap: Newport Black",null,null,811685021354,"SNC1354",{"v":16,"d":"$16.00"},{"v":31.99,"d":"$31.99"},null,{"v":0,"d":"$0.00"},"Strap","IN STOCK"]
[null,"Strap: Newport Grey",null,null,811685021361,"SNC1361",{"v":16,"d":"$16.00"},{"v":31.99,"d":"$31.99"},null,{"v":0,"d":"$0.00"},"Strap","IN STOCK"]
["Display Systems","Triangle Display",{"$nulls":3},"Triangle Display",{"v":150,"d":"$150.00"},{"v":299.99,"d":"$299.99"},null,{"$f":"I256*G256","v":{"v":0,"d":"$0.00"}},"Display","IN STOCK"]
[null,"Stand Up Display",{"$nulls":3},"FloorDisplay2",{"v":100,"d":"$100.00"},{"$f":"IF(G257=0,\" \",(G257*2)-0.01)","v":{"v":199.99,"d":"$199.99"}},null,{"v":0,"d":"$0.00"},"Display","IN STOCK"]
[null,"Additional Brackets",{"$nulls":4},{"v":15,"d":"$15.00"},{"v":29.99,"d":"$29.99"},null,{"v":0,"d":"$0.00"},"Display","IN STOCK"]
[null,"Wood Display Case - 4 belts",{"$nulls":3},"Wood4",{"v":25,"d":"$25.00"},{"v":49.99,"d":"$49.99"},null,{"v":0,"d":"$0.00"},"Display","IN STOCK"]
[null,"Display 6 - 6 belts NEW!",{"$nulls":3},"Display 6",{"v":30,"d":"$30.00"},{"v":59.99,"d":"$59.99"},null,{"v":0,"d":"$0.00"},"Display","IN STOCK"]
[null,"Wood Display Case - 16 belts",{"$nulls":3},"Wood16",{"v":50,"d":"$50.00"},{"v":99.99,"d":"$99.99"},null,{"v":0,"d":"$0.00"},"Display","LOW INVENTORY"]
[null,"Rowland Thomas Luxury Wood Display - 6 belts",{"$nulls":3},"RT WOOD6",{"v":60,"d":"$60.00"},{"v":119.99,"d":"$119.99"},null,{"v":0,"d":"$0.00"},"Display","IN STOCK"]
[null,"SlatWall Rack Holds 16 Belts",{"$nulls":3},"SLATT",{"v":20,"d":"$20.00"},{"v":39.99,"d":"$39.99"},null,{"v":0,"d":"$0.00"},"Display","IN STOCK"]
[null,"Buckle Display Box - 25 buckles",{"$nulls":3},102,{"v":50,"d":"$50.00"},{"v":99.99,"d":"$99.99"},null,{"v":0,"d":"$0.00"},"Display","IN STOCK"]
[null,"Acrylic Rounded Top Box",{"$nulls":3},"100B",{"v":1.5,"d":"$1.50"},{"v":2.99,"d":"$2.99"},null,{"v":0,"d":"$0.00"},"Display","IN STOCK"]
[null,"Velvet Bags",{"$nulls":3},"Velvet",{"v":1,"d":"$1.00"},{"v":1.99,"d":"$1.99"},null,{"v":0,"d":"$0.00"},"Display","IN STOCK"]
[null,"Strap Hanger",{"$nulls":3},"Strap Hanger",{"v":1,"d":"$1.00"},{"v":1.99,"d":"$1.99"},null,{"v":0,"d":"$0.00"},"Display"]
["Blank for manual entry",{"$nulls":3},"-","-",{"v":0,"d":"$0.00"},{"$f":"IF(G268=0,\" \",(G268*2)-0.01)","v":" "},null,{"$f":"I268*G268","v":{"v":0,"d":"$0.00"}}]
[{"$nulls":4},"-","-",{"v":0,"d":"$0.00"}," ",null,{"v":0,"d":"$0.00"}]
[{"$nulls":4},"-","-",{"v":0,"d":"$0.00"}," ",null,{"v":0,"d":"$0.00"}]
[{"$nulls":4},"-","-",{"v":0,"d":"$0.00"}," ",null,{"v":0,"d":"$0.00"}]
[{"$nulls":4},"-","-",{"v":0,"d":"$0.00"}," ",null,{"v":0,"d":"$0.00"}]
["Flag  (Use Flag Tab for Entry)",{"$nulls":3},{"$f":"IFERROR(VLOOKUP('Flag Entry Sheet'!P4,Data!$A$2:$J$76,7,FALSE),\"#N/A\")","v":"-"},{"$f":"IFERROR(VLOOKUP('Flag Entry Sheet'!P4,Data!$A$2:$J$76,8,FALSE),\"#N/A\")","v":"-"},{"$f":"IFERROR(VLOOKUP('Flag Entry Sheet'!P4,Data!$A$2:$J$76,9,FALSE),\"#N/A\")","v":{"v":0,"d":"$0.00"}},{"$f":"IF(G273=0,\" \",(G273*2)-0.01)","v":" "},null,{"$f":"I273*G273","v":{"v":0,"d":"$0.00"}},"Add'tl"]
[null,{"$f":"IF('Flag Entry Sheet'!F4>0,VLOOKUP('Flag Entry Sheet'!P4,Data!$A$2:$I$76,6,FALSE),\" \")","v":" "},null,null,{"$f":"IFERROR(VLOOKUP('Flag Entry Sheet'!P5,Data!$A$2:$J$76,7,FALSE),\"#N/A\")","v":"-"},{"$f":"IFERROR(VLOOKUP('Flag Entry Sheet'!P5,Data!$A$2:$J$76,8,FALSE),\"#N/A\")","v":"-"},{"$f":"IFERROR(VLOOKUP('Flag Entry Sheet'!P5,Data!$A$2:$J$76,9,FALSE),\"#N/A\")","v":{"v":0,"d":"$0.00"}}," ",null,{"v":0,"d":"$0.00"},"Add'tl"]
[null,{"$f":"IF('Flag Entry Sheet'!F5>0,VLOOKUP('Flag Entry Sheet'!P5,Data!$A$2:$I$76,6,FALSE),\" \")","v":" "},null,null,{"$f":"IFERROR(VLOOKUP('Flag Entry Sheet'!P6,Data!$A$2:$J$76,7,FALSE),\"#N/A\")","v":"-"},{"$f":"IFERROR(VLOOKUP('Flag Entry Sheet'!P6,Data!$A$2:$J$76,8,FALSE),\"#N/A\")","v":"-"},{"$f":"IFERROR(VLOOKUP('Flag Entry Sheet'!P6,Data!$A$2:$J$76,9,FALSE),\"#N/A\")","v":{"v":0,"d":"$0.00"}}," ",null,{"v":0,"d":"$0.00"},"Add'tl"]
[null,{"$f":"IF('Flag Entry Sheet'!F6>0,VLOOKUP('Flag Entry Sheet'!P6,Data!$A$2:$I$76,6,FALSE),\" \")","v":" "},null,null,{"$f":"IFERROR(VLOOKUP('Flag Entry Sheet'!P7,Data!$A$2:$J$76,7,FALSE),\"#N/A\")","v":"-"},{"$f":"IFERROR(VLOOKUP('Flag Entry Sheet'!P7,Data!$A$2:$J$76,8,FALSE),\"#N/A\")","v":"-"},{"$f":"IFERROR(VLOOKUP('Flag Entry Sheet'!P7,Data!$A$2:$J$76,9,FALSE),\"#N/A\")","v":{"v":0,"d":"$0.00"}}," ",null,{"v":0,"d":"$0.00"},"Add'tl"]
[null,{"$f":"IF('Flag Entry Sheet'!F7>0,VLOOKUP('Flag Entry Sheet'!P7,Data!$A$2:$I$76,6,FALSE),\" \")","v":" "},null,null,{"$f":"IFERROR(VLOOKUP('Flag Entry Sheet'!P8,Data!$A$2:$J$76,7,FALSE),\"#N/A\")","v":"-"},{"$f":"IFERROR(VLOOKUP('Flag Entry Sheet'!P8,Data!$A$2:$J$76,8,FALSE),\"#N/A\")","v":"-"},{"$f":"IFERROR(VLOOKUP('Flag Entry Sheet'!P8,Data!$A$2:$J$76,9,FALSE),\"#N/A\")","v":{"v":0,"d":"$0.00"}}," ",null,{"v":0,"d":"$0.00"},"Add'tl"]
[null,{"$f":"IF('Flag Entry Sheet'!F8>0,VLOOKUP('Flag Entry Sheet'!P8,Data!$A$2:$I$76,6,FALSE),\" \")","v":" "},null,null,{"$f":"IFERROR(VLOOKUP('Flag Entry Sheet'!P9,Data!$A$2:$J$76,7,FALSE),\"#N/A\")","v":"-"},{"$f":"IFERROR(VLOOKUP('Flag Entry Sheet'!P9,Data!$A$2:$J$76,8,FALSE),\"#N/A\")","v":"-"},{"$f":"IFERROR(VLOOKUP('Flag Entry Sheet'!P9,Data!$A$2:$J$76,9,FALSE),\"#N/A\")","v":{"v":0,"d":"$0.00"}}," ",null,{"v":0,"d":"$0.00"},"Add'tl"]
[null,{"$f":"IF('Flag Entry Sheet'!F9>0,VLOOKUP('Flag Entry Sheet'!P9,Data!$A$2:$I$76,6,FALSE),\" \")","v":" "},null,null,{"$f":"IFERROR(VLOOKUP('Flag Entry Sheet'!P10,Data!$A$2:$J$76,7,FALSE),\"#N/A\")","v":"-"},{"$f":"IFERROR(VLOOKUP('Flag Entry Sheet'!P10,Data!$A$2:$J$76,8,FALSE),\"#N/A\")","v":"-"},{"$f":"IFERROR(VLOOKUP('Flag Entry Sheet'!P10,Data!$A$2:$J$76,9,FALSE),\"#N/A\")","v":{"v":0,"d":"$0.00"}}," ",null,{"v":0,"d":"$0.00"},"Add'tl"]
[null,{"$f":"IF('Flag Entry Sheet'!F10>0,VLOOKUP('Flag Entry Sheet'!P10,Data!$A$2:$I$76,6,FALSE),\" \")","v":" "},null,null,{"$f":"IFERROR(VLOOKUP('Flag Entry Sheet'!P11,Data!$A$2:$J$76,7,FALSE),\"#N/A\")","v":"-"},{"$f":"IFERROR(VLOOKUP('Flag Entry Sheet'!P11,Data!$A$2:$J$76,8,FALSE),\"#N/A\")","v":"-"},{"$f":"IFERROR(VLOOKUP('Flag Entry Sheet'!P11,Data!$A$2:$J$76,9,FALSE),\"#N/A\")","v":{"v":0,"d":"$0.00"}}," ",null,{"v":0,"d":"$0.00"},"Add'tl"]
[null,{"$f":"IF('Flag Entry Sheet'!F11>0,VLOOKUP('Flag Entry Sheet'!P11,Data!$A$2:$I$76,6,FALSE),\" \")","v":" "},null,null,{"$f":"IFERROR(VLOOKUP('Flag Entry Sheet'!P12,Data!$A$2:$J$76,7,FALSE),\"#N/A\")","v":"-"},{"$f":"IFERROR(VLOOKUP('Flag Entry Sheet'!P12,Data!$A$2:$J$76,8,FALSE),\"#N/A\")","v":"-"},{"$f":"IFERROR(VLOOKUP('Flag Entry Sheet'!P12,Data!$A$2:$J$76,9,FALSE),\"#N/A\")","v":{"v":0,"d":"$0.00"}}," ",null,{"v":0,"d":"$0.00"},"Add'tl"]
[null,{"$f":"IF('Flag Entry Sheet'!F12>0,VLOOKUP('Flag Entry Sheet'!P12,Data!$A$2:$I$76,6,FALSE),\" \")","v":" "},null,null,{"$f":"IFERROR(VLOOKUP('Flag Entry Sheet'!P13,Data!$A$2:$J$76,7,FALSE),\"#N/A\")","v":"-"},{"$f":"IFERROR(VLOOKUP('Flag Entry Sheet'!P13,Data!$A$2:$J$76,8,FALSE),\"#N/A\")","v":"-"},{"$f":"IFERROR(VLOOKUP('Flag Entry Sheet'!P13,Data!$A$2:$J$76,9,FALSE),\"#N/A\")","v":{"v":0,"d":"$0.00"}}," ",null,{"v":0,"d":"$0.00"},"Add'tl"]
["Rowland Thomas  (Use Rowland Thomas Tab for Entry)",{"$f":"+IF('Rowland Thomas Entry Sheet'!G4>0,'Rowland Thomas Entry Sheet'!B4,\"\")","v":""},null,null,{"$f":"+IF('Rowland Thomas Entry Sheet'!G4>0,'Rowland Thomas Entry Sheet'!C4,\"-\")","v":"-"},{"$f":"+IF('Rowland Thomas Entry Sheet'!G4>0,'Rowland Thomas Entry Sheet'!D4,\"-\")","v":"-"},{"$f":"+IF('Rowland Thomas Entry Sheet'!G4>0,'Rowland Thomas Entry Sheet'!E4,\"$0.00\")","v":"$0.00"},{"$f":"+IF('Rowland Thomas Entry Sheet'!G4>0,'Rowland Thomas Entry Sheet'!F4,\"\")","v":""},{"$f":"+'Rowland Thomas Entry Sheet'!G4","v":0},{"v":0,"d":"$0.00"},"Add'tl"]
[null,{"$f":"+IF('Rowland Thomas Entry Sheet'!G5>0,'Rowland Thomas Entry Sheet'!B5,\"\")","v":""},null,null,{"$f":"+IF('Rowland Thomas Entry Sheet'!G5>0,'Rowland Thomas Entry Sheet'!C5,\"-\")","v":"-"},{"$f":"+IF('Rowland Thomas Entry Sheet'!G5>0,'Rowland Thomas Entry Sheet'!D5,\"-\")","v":"-"},{"$f":"+IF('Rowland Thomas Entry Sheet'!G5>0,'Rowland Thomas Entry Sheet'!E5,\"$0.00\")","v":"$0.00"},{"$f":"+IF('Rowland Thomas Entry Sheet'!G5>0,'Rowland Thomas Entry Sheet'!F5,\"\")","v":""},{"$f":"+'Rowland Thomas Entry Sheet'!G5","v":0},{"$f":"I284*G284","v":{"v":0,"d":"$0.00"}},"Add'tl"]
[null,{"$f":"+IF('Rowland Thomas Entry Sheet'!G6>0,'Rowland Thomas Entry Sheet'!B6,\"\")","v":""},null,null,{"$f":"+IF('Rowland Thomas Entry Sheet'!G6>0,'Rowland Thomas Entry Sheet'!C6,\"-\")","v":"-"},{"$f":"+IF('Rowland Thomas Entry Sheet'!G6>0,'Rowland Thomas Entry Sheet'!D6,\"-\")","v":"-"},{"$f":"+IF('Rowland Thomas Entry Sheet'!G6>0,'Rowland Thomas Entry Sheet'!E6,\"$0.00\")","v":"$0.00"},{"$f":"+IF('Rowland Thomas Entry Sheet'!G6>0,'Rowland Thomas Entry Sheet'!F10,\"\")","v":""},{"$f":"+'Rowland Thomas Entry Sheet'!G6","v":0},{"v":0,"d":"$0.00"},"Add'tl"]
[null,{"$f":"+IF('Rowland Thomas Entry Sheet'!G7>0,'Rowland Thomas Entry Sheet'!B7,\"\")","v":""},null,null,{"$f":"+IF('Rowland Thomas Entry Sheet'!G7>0,'Rowland Thomas Entry Sheet'!C7,\"-\")","v":"-"},{"$f":"+IF('Rowland Thomas Entry Sheet'!G7>0,'Rowland Thomas Entry Sheet'!D7,\"-\")","v":"-"},{"$f":"+IF('Rowland Thomas Entry Sheet'!G7>0,'Rowland Thomas Entry Sheet'!E7,\"$0.00\")","v":"$0.00"},{"$f":"+IF('Rowland Thomas Entry Sheet'!G7>0,'Rowland Thomas Entry Sheet'!F7,\"\")","v":""},{"$f":"+'Rowland Thomas Entry Sheet'!G7","v":0},{"v":0,"d":"$0.00"},"Add'tl"]
[null,{"$f":"+IF('Rowland Thomas Entry Sheet'!G8>0,'Rowland Thomas Entry Sheet'!B8,\"\")","v":""},null,null,{"$f":"+IF('Rowland Thomas Entry Sheet'!G8>0,'Rowland Thomas Entry Sheet'!C8,\"-\")","v":"-"},{"$f":"+IF('Rowland Thomas Entry Sheet'!G8>0,'Rowland Thomas Entry Sheet'!D8,\"-\")","v":"-"},{"$f":"+IF('Rowland Thomas Entry Sheet'!G8>0,'Rowland Thomas Entry Sheet'!E8,\"$0.00\")","v":"$0.00"},{"$f":"+IF('Rowland Thomas Entry Sheet'!G8>0,'Rowland Thomas Entry Sheet'!F8,\"\")","v":""},{"$f":"+'Rowland Thomas Entry Sheet'!G8","v":0},{"v":0,"d":"$0.00"},"Add'tl"]
[null,{"$f":"+IF('Rowland Thomas Entry Sheet'!G9>0,'Rowland Thomas Entry Sheet'!B9,\"\")","v":""},null,null,{"$f":"+IF('Rowland Thomas Entry Sheet'!G9>0,'Rowland Thomas Entry Sheet'!C9,\"-\")","v":"-"},{"$f":"+IF('Rowland Thomas Entry Sheet'!G9>0,'Rowland Thomas Entry Sheet'!D9,\"-\")","v":"-"},{"$f":"+IF('Rowland Thomas Entry Sheet'!G9>0,'Rowland Thomas Entry Sheet'!E9,\"$0.00\")","v":"$0.00"},{"$f":"+IF('Rowland Thomas Entry Sheet'!G9>0,'Rowland Thomas Entry Sheet'!F9,\"\")","v":""},{"$f":"+'Rowland Thomas Entry Sheet'!G9","v":0},{"v":0,"d":"$0.00"},"Add'tl"]
[null,{"$f":"+IF('Rowland Thomas Entry Sheet'!G10>0,'Rowland Thomas Entry Sheet'!B10,\"\")","v":""},null,null,{"$f":"+IF('Rowland Thomas Entry Sheet'!G10>0,'Rowland Thomas Entry Sheet'!C10,\"-\")","v":"-"},{"$f":"+IF('Rowland Thomas Entry Sheet'!G10>0,'Rowland Thomas Entry Sheet'!D10,\"-\")","v":"-"},{"$f":"+IF('Rowland Thomas Entry Sheet'!G10>0,'Rowland Thomas Entry Sheet'!E10,\"$0.00\")","v":"$0.00"},{"$f":"+IF('Rowland Thomas Entry Sheet'!G10>0,'Rowland Thomas Entry Sheet'!F10,\"\")","v":""},{"$f":"+'Rowland Thomas Entry Sheet'!G10","v":0},{"v":0,"d":"$0.00"},"Add'tl"]
[null,{"$f":"+IF('Rowland Thomas Entry Sheet'!G11>0,'Rowland Thomas Entry Sheet'!B11,\"\")","v":""},null,null,{"$f":"+IF('Rowland Thomas Entry Sheet'!G11>0,'Rowland Thomas Entry Sheet'!C11,\"-\")","v":"-"},{"$f":"+IF('Rowland Thomas Entry Sheet'!G11>0,'Rowland Thomas Entry Sheet'!D11,\"-\")","v":"-"},{"$f":"+IF('Rowland Thomas Entry Sheet'!G11>0,'Rowland Thomas Entry Sheet'!E11,\"$0.00\")","v":"$0.00"},{"$f":"+IF('Rowland Thomas Entry Sheet'!G11>0,'Rowland Thomas Entry Sheet'!F11,\"\")","v":""},{"$f":"+'Rowland Thomas Entry Sheet'!G11","v":0},{"v":0,"d":"$0.00"},"Add'tl"]
[]
[null,"Important Notice: A qty of 30+ pcs of any one item requires call ahead confirmation",{"$nulls":4},"ORDER TOTALS",null,{"$f":"SUM(I32:I290)","v":0},{"$f":"SUM(J33:J290)","v":{"v":0,"d":"$0.00"}}]
[]
["Order Notes:"]
[]
[]
[]
[]
[null,"Order Summary:"]
[{"$nulls":3},"Qty","Total $"]
[null,"Buckle",null,{"$f":"DSUM(Items,8,Instructions!B135:B136)","v":0},{"$f":"DSUM(Items,9,Instructions!B135:B136)","v":0}]
[null,"Classic Series",null,{"$f":"DSUM(Items,8,Instructions!C135:C136)","v":0},{"$f":"DSUM(Items,9,Instructions!C135:C136)","v":0}]
[null,"Display",null,{"$f":"DSUM(Items,8,Instructions!D135:D136)","v":0},{"$f":"DSUM(Items,9,Instructions!D135:D136)","v":0},null,"VGM Award: ",{"$f":"IF(ISNUMBER(SEARCH(\"VGM\",J13)),IF(I292>11,\"YES\",\"NO\"), \" \")","v":" "}]
[null,"EDC",null,{"$f":"DSUM(Items,8,Instructions!E135:E136)","v":0},{"$f":"DSUM(Items,9,Instructions!E135:E136)","v":0}]
[null,"Golf Series",null,{"$f":"DSUM(Items,8,Instructions!G135:G136)","v":0},{"$f":"DSUM(Items,9,Instructions!G135:G136)","v":0}]
[null,"Strap",null,{"$f":"DSUM(Items,8,Instructions!H135:H136)","v":0},{"$f":"DSUM(Items,9,Instructions!H135:H136)","v":0}]
[null,"Team",null,{"$f":"DSUM(Items,8,Instructions!I135:I136)","v":0},{"$f":"DSUM(Items,9,Instructions!I135:I136)","v":0}]
[null,"Add'tl",null,{"$f":"DSUM(Items,8,Instructions!J135:J136)","v":0},{"$f":"DSUM(Items,9,Instructions!J135:J136)","v":0}]

{"sheet":"Flag Entry Sheet","index":2,"n_rows":42,"n_cols":25,"rows_kept":42}
[]
[{"$nulls":15},"CODE STRING ANSWER:"]
[null,"Product","Buckle Type","Flag","Strap","Qty","Check",{"$nulls":13},"Description","UPC","Item Code","Price","MSRP"]
[{"$nulls":15},{"$f":"IF(ISBLANK(B4),\"Blank\",B4&\" \"&C4&\" \"&D4&\" \"&E4)","v":"Blank"},{"$nulls":4},{"$f":"IFERROR(VLOOKUP(P4,Data!$A$2:$J$76,6,FALSE),\"#N/A\")","v":"-"},{"$f":"IFERROR(VLOOKUP(P4,Data!$A$2:$J$76,7,FALSE),\"#N/A\")","v":"-"},{"$f":"IFERROR(VLOOKUP(P4,Data!$A$2:$J$76,8,FALSE),\"#N/A\")","v":"-"},{"$f":"IFERROR(VLOOKUP(P4,Data!$A$2:$J$76,9,FALSE),\"#N/A\")","v":0},{"$f":"IFERROR(VLOOKUP(P4,Data!$A$2:$J$76,10,FALSE),\"#N/A\")","v":"-"}]
[{"$nulls":15},{"$f":"IF(ISBLANK(B5),\"Blank\",B5&\" \"&C5&\" \"&D5&\" \"&E5)","v":"Blank"},{"$nulls":4},{"$f":"IFERROR(VLOOKUP(P5,Data!$A$2:$J$76,6,FALSE),\"#N/A\")","v":"-"},{"$f":"IFERROR(VLOOKUP(P5,Data!$A$2:$J$76,7,FALSE),\"#N/A\")","v":"-"},{"$f":"IFERROR(VLOOKUP(P5,Data!$A$2:$J$76,8,FALSE),\"#N/A\")","v":"-"},{"$f":"IFERROR(VLOOKUP(P5,Data!$A$2:$J$76,9,FALSE),\"#N/A\")","v":0},{"$f":"IFERROR(VLOOKUP(P5,Data!$A$2:$J$76,10,FALSE),\"#N/A\")","v":"-"}]
[{"$nulls":6},{"$f":"IF(U6=\"#N/A\",\"Combination Not Available\",\" \")","v":" "},{"$nulls":8},"Blank",{"$nulls":4},{"$f":"IFERROR(VLOOKUP(P6,Data!$A$2:$J$76,6,FALSE),\"#N/A\")","v":"-"},{"$f":"IFERROR(VLOOKUP(P6,Data!$A$2:$J$76,7,FALSE),\"#N/A\")","v":"-"},{"$f":"IFERROR(VLOOKUP(P6,Data!$A$2:$J$76,8,FALSE),\"#N/A\")","v":"-"},{"$f":"IFERROR(VLOOKUP(P6,Data!$A$2:$J$76,9,FALSE),\"#N/A\")","v":0},{"$f":"IFERROR(VLOOKUP(P6,Data!$A$2:$J$76,10,FALSE),\"#N/A\")","v":"-"}]
[{"$nulls":6}," ",{"$nulls":8},"Blank",{"$nulls":4},{"$f":"IFERROR(VLOOKUP(P7,Data!$A$2:$J$76,6,FALSE),\"#N/A\")","v":"-"},{"$f":"IFERROR(VLOOKUP(P7,Data!$A$2:$J$76,7,FALSE),\"#N/A\")","v":"-"},{"$f":"IFERROR(VLOOKUP(P7,Data!$A$2:$J$76,8,FALSE),\"#N/A\")","v":"-"},{"$f":"IFERROR(VLOOKUP(P7,Data!$A$2:$J$76,9,FALSE),\"#N/A\")","v":0},{"$f":"IFERROR(VLOOKUP(P7,Data!$A$2:$J$76,10,FALSE),\"#N/A\")","v":"-"}]
[{"$nulls":6}," ",{"$nulls":8},"Blank",{"$nulls":4},{"$f":"IFERROR(VLOOKUP(P8,Data!$A$2:$J$76,6,FALSE),\"#N/A\")","v":"-"},{"$f":"IFERROR(VLOOKUP(P8,Data!$A$2:$J$76,7,FALSE),\"#N/A\")","v":"-"},{"$f":"IFERROR(VLOOKUP(P8,Data!$A$2:$J$76,8,FALSE),\"#N/A\")","v":"-"},{"$f":"IFERROR(VLOOKUP(P8,Data!$A$2:$J$76,9,FALSE),\"#N/A\")","v":0},{"$f":"IFERROR(VLOOKUP(P8,Data!$A$2:$J$76,10,FALSE),\"#N/A\")","v":"-"}]
[{"$nulls":6}," ",{"$nulls":8},"Blank",{"$nulls":4},{"$f":"IFERROR(VLOOKUP(P9,Data!$A$2:$J$76,6,FALSE),\"#N/A\")","v":"-"},{"$f":"IFERROR(VLOOKUP(P9,Data!$A$2:$J$76,7,FALSE),\"#N/A\")","v":"-"},{"$f":"IFERROR(VLOOKUP(P9,Data!$A$2:$J$76,8,FALSE),\"#N/A\")","v":"-"},{"$f":"IFERROR(VLOOKUP(P9,Data!$A$2:$J$76,9,FALSE),\"#N/A\")","v":0},{"$f":"IFERROR(VLOOKUP(P9,Data!$A$2:$J$76,10,FALSE),\"#N/A\")","v":"-"}]
[{"$nulls":6}," ",{"$nulls":8},"Blank",{"$nulls":4},{"$f":"IFERROR(VLOOKUP(P10,Data!$A$2:$J$76,6,FALSE),\"#N/A\")","v":"-"},{"$f":"IFERROR(VLOOKUP(P10,Data!$A$2:$J$76,7,FALSE),\"#N/A\")","v":"-"},{"$f":"IFERROR(VLOOKUP(P10,Data!$A$2:$J$76,8,FALSE),\"#N/A\")","v":"-"},{"$f":"IFERROR(VLOOKUP(P10,Data!$A$2:$J$76,9,FALSE),\"#N/A\")","v":0},{"$f":"IFERROR(VLOOKUP(P10,Data!$A$2:$J$76,10,FALSE),\"#N/A\")","v":"-"}]
[{"$nulls":6}," ",{"$nulls":8},"Blank",{"$nulls":4},{"$f":"IFERROR(VLOOKUP(P11,Data!$A$2:$J$76,6,FALSE),\"#N/A\")","v":"-"},{"$f":"IFERROR(VLOOKUP(P11,Data!$A$2:$J$76,7,FALSE),\"#N/A\")","v":"-"},{"$f":"IFERROR(VLOOKUP(P11,Data!$A$2:$J$76,8,FALSE),\"#N/A\")","v":"-"},{"$f":"IFERROR(VLOOKUP(P11,Data!$A$2:$J$76,9,FALSE),\"#N/A\")","v":0},{"$f":"IFERROR(VLOOKUP(P11,Data!$A$2:$J$76,10,FALSE),\"#N/A\")","v":"-"}]
[{"$nulls":6}," ",{"$nulls":8},"Blank",{"$nulls":4},{"$f":"IFERROR(VLOOKUP(P12,Data!$A$2:$J$76,6,FALSE),\"#N/A\")","v":"-"},{"$f":"IFERROR(VLOOKUP(P12,Data!$A$2:$J$76,7,FALSE),\"#N/A\")","v":"-"},{"$f":"IFERROR(VLOOKUP(P12,Data!$A$2:$J$76,8,FALSE),\"#N/A\")","v":"-"},{"$f":"IFERROR(VLOOKUP(P12,Data!$A$2:$J$76,9,FALSE),\"#N/A\")","v":0},{"$f":"IFERROR(VLOOKUP(P12,Data!$A$2:$J$76,10,FALSE),\"#N/A\")","v":"-"}]
[{"$nulls":6}," ",{"$nulls":8},"Blank",{"$nulls":4},{"$f":"IFERROR(VLOOKUP(P13,Data!$A$2:$J$76,6,FALSE),\"#N/A\")","v":"-"},{"$f":"IFERROR(VLOOKUP(P13,Data!$A$2:$J$76,7,FALSE),\"#N/A\")","v":"-"},{"$f":"IFERROR(VLOOKUP(P13,Data!$A$2:$J$76,8,FALSE),\"#N/A\")","v":"-"},{"$f":"IFERROR(VLOOKUP(P13,Data!$A$2:$J$76,9,FALSE),\"#N/A\")","v":0},{"$f":"IFERROR(VLOOKUP(P13,Data!$A$2:$J$76,10,FALSE),\"#N/A\")","v":"-"}]
[null,"Product List","Buckle List ","Flag List ","Strap List ",{"$nulls":10},{"$f":"(B14&\" \"&C14&\" \"&D14&\" \"&E14)","v":"Product List Buckle List  Flag List  Strap List "}]
[null,"Package","Go-In!","Australia","Smooth Black",{"$nulls":10},"Package Go-In! Australia Smooth Black"]
[null,"Buckle Only","Classic","Canada","Smooth White",{"$nulls":10},"Buckle Only Classic Canada Smooth White"]
[{"$nulls":3},"Canada - Black Series","Walnut",{"$nulls":10},"  Canada - Black Series Walnut"]
[{"$nulls":3},"Great Britain",{"$nulls":11},"  Great Britain "]
[{"$nulls":3},"Great Britain - Black Series",{"$nulls":11},"  Great Britain - Black Series "]
[{"$nulls":3},"Ireland",{"$nulls":11},"  Ireland "]
[{"$nulls":3},"Italy",{"$nulls":11},"  Italy "]
[{"$nulls":3},"Mexico",{"$nulls":11},"  Mexico "]
[{"$nulls":3},"Scotland",{"$nulls":11},"  Scotland "]
[{"$nulls":3},"Texas",{"$nulls":11},"  Texas "]
[{"$nulls":3},"Texas - Black Series",{"$nulls":11},"  Texas - Black Series "]
[{"$nulls":3},"Texas - Aston Pewter",{"$nulls":11},"  Texas - Aston Pewter "]
[{"$nulls":3},"USA",{"$nulls":11},"  USA "]
[{"$nulls":3},"USA - Black Series",{"$nulls":11},"  USA - Black Series "]
[{"$nulls":15},"   "]
[{"$nulls":15},"   "]
[{"$nulls":15},"   "]
[{"$nulls":15},"   "]
[{"$nulls":15},"   "]
[{"$nulls":15},"   "]
[{"$nulls":15},"   "]
[{"$nulls":15},"   "]
[{"$nulls":15},"   "]
[{"$nulls":15},"   "]
[{"$nulls":15},"   "]
[null,"ABOVE SELECTIONS CREATE A UNIQUE STRING OF CHARACTERS THAT CAN MATCH AN IDENTICAL STRING OIN THE DATA PAGE",{"$nulls":13},"ABOVE SELECTIONS CREATE A UNIQUE STRING OF CHARACTERS THAT CAN MATCH AN IDENTICAL STRING OIN THE DATA PAGE   "]
[null,"THE ORDER FORM CAN LOOK TO SEE IF THERE ARE SELECTIONS ABOVE AND THEN MATCH THE STRING ABOVE WITH A STRING ON",{"$nulls":13},"THE ORDER FORM CAN LOOK TO SEE IF THERE ARE SELECTIONS ABOVE AND THEN MATCH THE STRING ABOVE WITH A STRING ON   "]
[null,"THE DATA SHEET AND RETURN AN ENTRY THAT PULLS THE DATA TO THE FORM",{"$nulls":13},"THE DATA SHEET AND RETURN AN ENTRY THAT PULLS THE DATA TO THE FORM   "]

{"sheet":"Rowland Thomas Entry Sheet","index":3,"n_rows":11,"n_cols":9,"rows_kept":11,"merged":[[3,0,10,0]]}
[]
[null,"Order Details:"]
[null,"Description","UPC Code","Item Code","Price","MSRP","Qty","Total","Summary"]
["Rowland Thomas","USA Premium Rowland Thomas Serpent Black/Taupe (Cut to size, up to 45\")",818172022993,"PCU7073",{"v":115,"d":"$115.00"},{"v":230,"d":"$230.00"},null,{"$f":"G4*E4","v":{"v":0,"d":"$0.00"}},"Add'tl"]
[null,"USA Premium Rowland Thomas Serpent Black/Grey (Cut to size, up to 45\")",818172022993,"PCU7066",{"v":115,"d":"$115.00"},{"v":230,"d":"$230.00"},null,{"$f":"G5*E5","v":{"v":0,"d":"$0.00"}},"Add'tl"]
[null,"USA Premium Rowland Thomas Brown Kayiman (Cut to size, up to 45\")",818172022955,"PCU7080",{"v":100,"d":"$100.00"},{"v":200,"d":"$200.00"},null,{"$f":"G6*E6","v":{"v":0,"d":"$0.00"}},"Add'tl"]
[null,"USA Premium Rowland Thomas Black/Blue Kayiman (Cut to size, up to 45\")",818172022962,"PCU7103",{"v":100,"d":"$100.00"},{"v":200,"d":"$200.00"},null,{"v":0,"d":"$0.00"},"Add'tl"]
[null,"USA Premium Rowland Thomas Herrington Brown (Cut to size, up to 45\")",818172022979,"PCU7097",{"v":90,"d":"$90.00"},{"v":180,"d":"$180.00"},null,{"v":0,"d":"$0.00"},"Add'tl"]
[null,"USA Premium Rowland Thomas Herrington Black (Cut to size, up to 45\")",818172022986,"PCU7110",{"v":90,"d":"$90.00"},{"v":180,"d":"$180.00"},null,{"v":0,"d":"$0.00"},"Add'tl"]
[null,"USA Premium Rowland Thomas Chordata Grey (Cut to size, up to 45\")",818172027899,"PCU7899",{"v":100,"d":"$100.00"},{"v":200,"d":"$200.00"},null,{"v":0,"d":"$0.00"},"Add'tl"]
[null,"USA Premium Rowland Thomas Chordata Brown (Cut to size, up to 45\")",818172027912,"PCU7912",{"v":100,"d":"$100.00"},{"v":200,"d":"$200.00"},null,{"v":0,"d":"$0.00"},"Add'tl"]

{"sheet":"Data","index":4,"n_rows":76,"n_cols":12,"rows_kept":76,"hidden":true}
["Code String","Product","Buckle Type","Flag","Strap","Description","UPC","Item Code","Price","MSRP","Qty","Total"]
[{"$f":"(B2&\" \"&C2&\" \"&D2&\" \"&E2)","v":"Buckle Only Go-In! USA "},"Buckle Only","Go-In!","USA",null,"Go-In! Heritage USA Buckle","811685021071","BGH1071",{"v":11,"d":"$11.00"},{"v":21.99,"d":"$21.99"},null,{"$f":"K2*I2","v":{"v":0,"d":"$0.00"}}]
[{"$f":"(B3&\" \"&C3&\" \"&D3&\" \"&E3)","v":"Buckle Only Go-In! Canada "},"Buckle Only","Go-In!","Canada",null,"Go-In! Heritage Canada Buckle","811685021088","BGH1088",{"v":11,"d":"$11.00"},{"v":21.99,"d":"$21.99"},null,{"$f":"K3*I3","v":{"v":0,"d":"$0.00"}}]
["Buckle Only Go-In! Italy ","Buckle Only","Go-In!","Italy",null,"Go-In! Heritage Italy Buckle","811685023969","BGH3969",{"v":11,"d":"$11.00"},{"v":21.99,"d":"$21.99"},null,{"v":0,"d":"$0.00"}]
["Buckle Only Go-In! Ireland ","Buckle Only","Go-In!","Ireland",null,"Go-In! Heritage Ireland Buckle","811685024331","BGH4331",{"v":11,"d":"$11.00"},{"v":21.99,"d":"$21.99"},null,{"v":0,"d":"$0.00"}]
["Buckle Only Go-In! Great Britain ","Buckle Only","Go-In!","Great Britain",null,"Go-In! Heritage Great Britain Buckle","811685024348","BGH4348",{"v":11,"d":"$11.00"},{"v":21.99,"d":"$21.99"},null,{"v":0,"d":"$0.00"}]
["Buckle Only Go-In! Texas ","Buckle Only","Go-In!","Texas",null,"Go-In! Heritage Texas Buckle","811685024423","BGH4423",{"v":11,"d":"$11.00"},{"v":21.99,"d":"$21.99"},null,{"v":0,"d":"$0.00"}]
["Buckle Only Go-In! Scotland ","Buckle Only","Go-In!","Scotland",null,"Go-In! Heritage Scotland Buckle","811685024577","BGH4577",{"v":11,"d":"$11.00"},{"v":21.99,"d":"$21.99"},null,{"v":0,"d":"$0.00"}]
["Buckle Only Go-In! USA - Black Series ","Buckle Only","Go-In!","USA - Black Series",null,"Go-In! Black Series USA Buckle","811685025017","BGB5017",{"v":11,"d":"$11.00"},{"v":21.99,"d":"$21.99"},null,{"v":0,"d":"$0.00"}]
["Buckle Only Go-In! Great Britain - Black Series ","Buckle Only","Go-In!","Great Britain - Black Series",null,"Go-In! Black Series Great Britain Buckle","811685025086","BGB5086",{"v":11,"d":"$11.00"},{"v":21.99,"d":"$21.99"},null,{"v":0,"d":"$0.00"}]
["Buckle Only Go-In! Texas - Black Series ","Buckle Only","Go-In!","Texas - Black Series",null,"Go-In! Black Series Texas Buckle","811685025185","BGB5185",{"v":11,"d":"$11.00"},{"v":21.99,"d":"$21.99"},null,{"v":0,"d":"$0.00"}]
["Buckle Only Go-In! Canada - Black Series ","Buckle Only","Go-In!","Canada - Black Series",null,"Go-In! Black Series Canada Buckle","811685025628","BGB5628",{"v":11,"d":"$11.00"},{"v":21.99,"d":"$21.99"},null,{"v":0,"d":"$0.00"}]
["Buckle Only Go-In! Australia ","Buckle Only","Go-In!","Australia",null,"Go-In! Heritage Australia Buckle","811685024393","BGH4393",{"v":11,"d":"$11.00"},{"v":21.99,"d":"$21.99"},null,{"v":0,"d":"$0.00"}]
["Buckle Only Go-In! Mexico ","Buckle Only","Go-In!","Mexico",null,"Go-In! Heritage Mexico Buckle","811685021095","BGH1095",{"v":11,"d":"$11.00"},{"v":21.99,"d":"$21.99"},null,{"v":0,"d":"$0.00"}]
["Buckle Only Classic USA ","Buckle Only","Classic","USA",null,"Classic Heritage USA Buckle","811685021613","BCH1613",{"v":10,"d":"$10.00"},{"v":19.99,"d":"$19.99"},null,{"v":0,"d":"$0.00"}]
["Buckle Only Classic Italy ","Buckle Only","Classic","Italy",null,"Classic Heritage Italy Buckle","811685025345","BCH5345",{"v":10,"d":"$10.00"},{"v":19.99,"d":"$19.99"},null,{"v":0,"d":"$0.00"}]
["Buckle Only Classic Ireland ","Buckle Only","Classic","Ireland",null,"Classic Heritage Ireland Buckle","811685025369","BCH5369",{"v":10,"d":"$10.00"},{"v":19.99,"d":"$19.99"},null,{"v":0,"d":"$0.00"}]
["Buckle Only Classic Canada ","Buckle Only","Classic","Canada",null,"Classic Heritage Canada Buckle","811685025697","BCH5697",{"v":10,"d":"$10.00"},{"v":19.99,"d":"$19.99"},null,{"v":0,"d":"$0.00"}]
["Buckle Only Classic Great Britain ","Buckle Only","Classic","Great Britain",null,"Classic Heritage Great Britain Buckle","811685027561","BCH7561",{"v":10,"d":"$10.00"},{"v":19.99,"d":"$19.99"},null,{"v":0,"d":"$0.00"}]
["Buckle Only Classic Texas ","Buckle Only","Classic","Texas",null,"Classic Heritage Texas Buckle","811685027653","BCH7653",{"v":10,"d":"$10.00"},{"v":19.99,"d":"$19.99"},null,{"v":0,"d":"$0.00"}]
["Buckle Only Classic USA - Black Series ","Buckle Only","Classic","USA - Black Series",null,"Classic Black Series USA Buckle","811685024980","BCB4980",{"v":10,"d":"$10.00"},{"v":19.99,"d":"$19.99"},null,{"v":0,"d":"$0.00"}]
["Buckle Only Classic Texas - Black Series ","Buckle Only","Classic","Texas - Black Series",null,"Classic Black Series Texas Buckle","811685025444","BCB5444",{"v":10,"d":"$10.00"},{"v":19.99,"d":"$19.99"},null,{"v":0,"d":"$0.00"}]
["Buckle Only Classic Texas - Aston Pewter ","Buckle Only","Classic","Texas - Aston Pewter",null,"Classic Aston Pewter Texas Buckle",811685028049,"BCH8049",{"v":12.5,"d":"$12.50"},{"v":24.99,"d":"$24.99"},null,{"v":0,"d":"$0.00"}]
["Buckle Only Classic Great Britain - Black Series ","Buckle Only","Classic","Great Britain - Black Series",null,"Classic Black Series Great Britain Buckle","811685025451","BCB5451",{"v":10,"d":"$10.00"},{"v":19.99,"d":"$19.99"},null,{"v":0,"d":"$0.00"}]
["Buckle Only Classic Canada - Black Series ","Buckle Only","Classic","Canada - Black Series",null,"Classic Black Series Canada Buckle","811685025482","BCB5482",{"v":10,"d":"$10.00"},{"v":19.99,"d":"$19.99"},null,{"v":0,"d":"$0.00"}]
["Buckle Only Classic Australia ","Buckle Only","Classic","Australia",null,"Classic Heritage Australia Buckle","818172020760","BCH0760",{"v":10,"d":"$10.00"},{"v":19.99,"d":"$19.99"},null,{"v":0,"d":"$0.00"}]
["Buckle Only Classic Mexico ","Buckle Only","Classic","Mexico",null,"Classic Heritage Mexico Buckle","818172020753","BCH0753",{"v":10,"d":"$10.00"},{"v":19.99,"d":"$19.99"},null,{"v":0,"d":"$0.00"}]
["Buckle Only Classic Scotland ","Buckle Only","Classic","Scotland",null,"Classic Heritage Scotland Buckle",818172020821,"BCH0821",{"v":10,"d":"$10.00"},{"v":19.99,"d":"$19.99"},null,{"v":0,"d":"$0.00"}]
["Package Go-In! Australia Smooth White","Package","Go-In!","Australia","Smooth White","Go-In! Heritage Australia White Strap","811685022030","PGH2030",{"v":30,"d":"$30.00"},{"v":59.99,"d":"$59.99"},null,{"v":0,"d":"$0.00"}]
["Package Go-In! Australia Smooth Black","Package","Go-In!","Australia","Smooth Black","Go-In! Heritage Australia Black Strap","811685022825","PGH2825",{"v":30,"d":"$30.00"},{"v":59.99,"d":"$59.99"},null,{"v":0,"d":"$0.00"}]
["Package Go-In! Great Britain Smooth White","Package","Go-In!","Great Britain","Smooth White","Go-In! Heritage Great Britain White Strap","811685022047","PGH2047",{"v":30,"d":"$30.00"},{"v":59.99,"d":"$59.99"},null,{"v":0,"d":"$0.00"}]
["Package Go-In! Great Britain Smooth Black","Package","Go-In!","Great Britain","Smooth Black","Go-In! Heritage Great Britain Black Strap","811685022917","PGH2917",{"v":30,"d":"$30.00"},{"v":59.99,"d":"$59.99"},null,{"v":0,"d":"$0.00"}]
["Package Go-In! Canada Smooth White","Package","Go-In!","Canada","Smooth White","Go-In! Heritage Canada White Strap","811685022054","PGH2054",{"v":30,"d":"$30.00"},{"v":59.99,"d":"$59.99"},null,{"v":0,"d":"$0.00"}]
["Package Go-In! Canada Smooth Black","Package","Go-In!","Canada","Smooth Black","Go-In! Heritage Canada Black Strap","811685022771","PGH2771",{"v":30,"d":"$30.00"},{"v":59.99,"d":"$59.99"},null,{"v":0,"d":"$0.00"}]
["Package Go-In! USA Smooth White","Package","Go-In!","USA","Smooth White","Go-In! Heritage USA White Strap","811685022115","PGH2115",{"v":30,"d":"$30.00"},{"v":59.99,"d":"$59.99"},null,{"v":0,"d":"$0.00"}]
["Package Go-In! USA Smooth Black","Package","Go-In!","USA","Smooth Black","Go-In! Heritage USA Black Strap","811685022733","PGH2733",{"v":30,"d":"$30.00"},{"v":59.99,"d":"$59.99"},null,{"v":0,"d":"$0.00"}]
["Package Go-In! Italy Smooth White","Package","Go-In!","Italy","Smooth White","Go-In! Heritage Italy White Strap","811685023013","PGH3013",{"v":30,"d":"$30.00"},{"v":59.99,"d":"$59.99"},null,{"v":0,"d":"$0.00"}]
["Package Go-In! Italy Smooth Black","Package","Go-In!","Italy","Smooth Black","Go-In! Heritage Italy Black Strap","811685022726","PGH2726",{"v":30,"d":"$30.00"},{"v":59.99,"d":"$59.99"},null,{"v":0,"d":"$0.00"}]
["Package Go-In! Scotland Smooth White","Package","Go-In!","Scotland","Smooth White","Go-In! Heritage Scotland White Strap","811685023037","PGH3037",{"v":30,"d":"$30.00"},{"v":59.99,"d":"$59.99"},null,{"v":0,"d":"$0.00"}]
["Package Go-In! Scotland Smooth Black","Package","Go-In!","Scotland","Smooth Black","Go-In! Heritage Scotland Black Strap","811685022757","PGH2757",{"v":30,"d":"$30.00"},{"v":59.99,"d":"$59.99"},null,{"v":0,"d":"$0.00"}]
["Package Go-In! Texas Smooth White","Package","Go-In!","Texas","Smooth White","Go-In! Heritage Texas White Strap","811685023044","PGH3044",{"v":30,"d":"$30.00"},{"v":59.99,"d":"$59.99"},null,{"v":0,"d":"$0.00"}]
["Package Go-In! Texas Smooth Black","Package","Go-In!","Texas","Smooth Black","Go-In! Heritage Texas Black Strap","811685022764","PGH2764",{"v":30,"d":"$30.00"},{"v":59.99,"d":"$59.99"},null,{"v":0,"d":"$0.00"}]
["Package Go-In! Ireland Smooth White","Package","Go-In!","Ireland","Smooth White","Go-In! Heritage Ireland White Strap","811685023150","PGH3150",{"v":30,"d":"$30.00"},{"v":59.99,"d":"$59.99"},null,{"v":0,"d":"$0.00"}]
["Package Go-In! Ireland Smooth Black","Package","Go-In!","Ireland","Smooth Black","Go-In! Heritage Ireland Black Strap","811685022931","PGH2931",{"v":30,"d":"$30.00"},{"v":59.99,"d":"$59.99"},null,{"v":0,"d":"$0.00"}]
["Package Go-In! Mexico Smooth White","Package","Go-In!","Mexico","Smooth White","Go-In! Heritage Mexico White Strap","811685023174","PGH3174",{"v":30,"d":"$30.00"},{"v":59.99,"d":"$59.99"},null,{"v":0,"d":"$0.00"}]
["Package Go-In! Mexico Smooth Black","Package","Go-In!","Mexico","Smooth Black","Go-In! Heritage Mexico Black Strap","811685022962","PGH2962",{"v":30,"d":"$30.00"},{"v":59.99,"d":"$59.99"},null,{"v":0,"d":"$0.00"}]
["Package Go-In! USA - Black Series Smooth Black","Package","Go-In!","USA - Black Series","Smooth Black","Go-In! Black Series USA ","811685023877","PGB3877",{"v":30,"d":"$30.00"},{"v":59.99,"d":"$59.99"},null,{"v":0,"d":"$0.00"}]
["Package Go-In! Texas - Black Series Smooth Black","Package","Go-In!","Texas - Black Series","Smooth Black","Go-In! Black Series Texas ","811685023884","PGB3884",{"v":30,"d":"$30.00"},{"v":59.99,"d":"$59.99"},null,{"v":0,"d":"$0.00"}]
["Package Go-In! Canada - Black Series Smooth Black","Package","Go-In!","Canada - Black Series","Smooth Black","Go-In! Black Series Canada","811685023891","PGB3891",{"v":30,"d":"$30.00"},{"v":59.99,"d":"$59.99"},null,{"v":0,"d":"$0.00"}]
["Package Go-In! Great Britain - Black Series Smooth Black","Package","Go-In!","Great Britain - Black Series","Smooth Black","Go-In! Black Series Great Britain","811685025062","PGB5062",{"v":30,"d":"$30.00"},{"v":59.99,"d":"$59.99"},null,{"v":0,"d":"$0.00"}]
["Package Go-In! USA - Black Series Walnut","Package","Go-In!","USA - Black Series","Walnut","Go-In! Black Series USA Walnut Strap","811685027998","PGB7998",{"v":30,"d":"$30.00"},{"v":59.99,"d":"$59.99"},null,{"v":0,"d":"$0.00"}]
["Package Classic USA Smooth White","Package","Classic","USA","Smooth White","Classic Heritage USA White Strap","811685025512","PCH5512",{"v":28,"d":"$28.00"},{"v":49.99,"d":"$49.99"},null,{"v":0,"d":"$0.00"}]
["Package Classic USA Smooth Black","Package","Classic","USA","Smooth Black","Classic Heritage USA Black Strap","811685025352","PCH5352",{"v":28,"d":"$28.00"},{"v":49.99,"d":"$49.99"},null,{"v":0,"d":"$0.00"}]
["Package Classic Australia Smooth White","Package","Classic","Australia","Smooth White","Classic Heritage Australia White Strap","818172020777","PCH0777",{"v":28,"d":"$28.00"},{"v":49.99,"d":"$49.99"},null,{"v":0,"d":"$0.00"}]
["Package Classic Australia Smooth Black","Package","Classic","Australia","Smooth Black","Classic Heritage Australia Black Strap","818172020784","PCH0784",{"v":28,"d":"$28.00"},{"v":49.99,"d":"$49.99"},null,{"v":0,"d":"$0.00"}]
["Package Classic Canada Smooth White","Package","Classic","Canada","Smooth White","Classic Heritage Canada White Strap","811685025420","PCH5420",{"v":28,"d":"$28.00"},{"v":49.99,"d":"$49.99"},null,{"v":0,"d":"$0.00"}]
["Package Classic Canada Smooth Black","Package","Classic","Canada","Smooth Black","Classic Heritage Canada Black Strap","811685025383","PCH5383",{"v":28,"d":"$28.00"},{"v":49.99,"d":"$49.99"},null,{"v":0,"d":"$0.00"}]
["Package Classic Great Britain Smooth White","Package","Classic","Great Britain","Smooth White","Classic Heritage Great Britain White Strap","811685025437","PCH5437",{"v":28,"d":"$28.00"},{"v":49.99,"d":"$49.99"},null,{"v":0,"d":"$0.00"}]
["Package Classic Great Britain Smooth Black","Package","Classic","Great Britain","Smooth Black","Classic Heritage Great Britain Black Strap","811685025390","PCH5390",{"v":28,"d":"$28.00"},{"v":49.99,"d":"$49.99"},null,{"v":0,"d":"$0.00"}]
["Package Classic Italy Smooth White","Package","Classic","Italy","Smooth White","Classic Heritage Italy White Strap","811685025413","PCH5413",{"v":28,"d":"$28.00"},{"v":49.99,"d":"$49.99"},null,{"v":0,"d":"$0.00"}]
["Package Classic Italy Smooth Black","Package","Classic","Italy","Smooth Black","Classic Heritage Italy Black Strap",818172020838,"PCH0838",{"v":28,"d":"$28.00"},{"v":49.99,"d":"$49.99"},null,{"v":0,"d":"$0.00"}]
["Package Classic Ireland Smooth White","Package","Classic","Ireland","Smooth White","Classic Heritage Ireland White Strap","811685027073","PCH7073",{"v":28,"d":"$28.00"},{"v":49.99,"d":"$49.99"},null,{"v":0,"d":"$0.00"}]
["Package Classic Ireland Smooth Black","Package","Classic","Ireland","Smooth Black","Classic Heritage Ireland Black Strap","811685026229","PCH6229",{"v":28,"d":"$28.00"},{"v":49.99,"d":"$49.99"},null,{"v":0,"d":"$0.00"}]
["Package Classic Mexico Smooth White","Package","Classic","Mexico","Smooth White","Classic Heritage Mexico White Strap","811685027431","PCH7431",{"v":28,"d":"$28.00"},{"v":49.99,"d":"$49.99"},null,{"v":0,"d":"$0.00"}]
["Package Classic Mexico Smooth Black","Package","Classic","Mexico","Smooth Black","Classic Heritage Mexico Black Strap","811685027448","PCH7448",{"v":28,"d":"$28.00"},{"v":49.99,"d":"$49.99"},null,{"v":0,"d":"$0.00"}]
["Package Classic Texas Smooth White","Package","Classic","Texas","Smooth White","Classic Heritage Texas White Strap","811685027509","PCH7509",{"v":28,"d":"$28.00"},{"v":49.99,"d":"$49.99"},null,{"v":0,"d":"$0.00"}]
["Package Classic Texas Smooth Black","Package","Classic","Texas","Smooth Black","Classic Heritage Texas Black Strap","811685027097","PCH7097",{"v":28,"d":"$28.00"},{"v":49.99,"d":"$49.99"},null,{"v":0,"d":"$0.00"}]
["Package Classic Texas - Aston Pewter Smooth Black","Package","Classic","Texas - Aston Pewter","Smooth Black","Classic Heritage Texas Aston Pewter Black Strap",811685028070,"PCH8070",{"v":28,"d":"$28.00"},{"v":55.99,"d":"$55.99"},null,{"v":0,"d":"$0.00"}]
[{"$f":"(B69&\" \"&C69&\" \"&D69&\" \"&E69)","v":"Package Classic Scotland Smooth White"},"Package","Classic","Scotland","Smooth White","Classic Heritage Scotland White Strap","811685027165","PCH7165",{"v":28,"d":"$28.00"},{"v":49.99,"d":"$49.99"},null,{"$f":"K69*I69","v":{"v":0,"d":"$0.00"}}]
["Package Classic Scotland Smooth Black","Package","Classic","Scotland","Smooth Black","Classic Heritage Scotland Black Strap","811685027738","PCH7738",{"v":28,"d":"$28.00"},{"v":49.99,"d":"$49.99"},null,{"v":0,"d":"$0.00"}]
["Package Classic USA - Black Series Smooth Black","Package","Classic","USA - Black Series","Smooth Black","Classic Black Series USA","811685024614","PCB4614",{"v":28,"d":"$28.00"},{"v":49.99,"d":"$49.99"},null,{"v":0,"d":"$0.00"}]
["Package Classic Texas - Black Series Smooth Black","Package","Classic","Texas - Black Series","Smooth Black","Classic Black Series Texas","811685024638","PCB4638",{"v":28,"d":"$28.00"},{"v":49.99,"d":"$49.99"},null,{"v":0,"d":"$0.00"}]
["Package Classic Canada - Black Series Smooth Black","Package","Classic","Canada - Black Series","Smooth Black","Classic Black Series Canada","811685024621","PCB4621",{"v":28,"d":"$28.00"},{"v":49.99,"d":"$49.99"},null,{"v":0,"d":"$0.00"}]
["Package Classic Great Britain - Black Series Smooth Black","Package","Classic","Great Britain - Black Series","Smooth Black","Classic Black Series Great Britain","811685024607","PCB4607",{"v":28,"d":"$28.00"},{"v":49.99,"d":"$49.99"},null,{"v":0,"d":"$0.00"}]
["Blank","-","-","-","-","-","-","-",{"v":0,"d":"$0.00"},"-","-","-"]
["Package Classic USA - Black Series Walnut","Package","Classic","USA - Black Series","Walnut","Classic Black Series USA Walnut","811685027981","PCB7981",{"v":28,"d":"$28.00"},{"v":49.99,"d":"$49.99"},null,{"v":0,"d":"$0.00"}]